BEGIN:VCALENDAR
VERSION:2.0
PRODID:-//Patriot Guard Riders - ECPv5.6.0//NONSGML v1.0//EN
CALSCALE:GREGORIAN
METHOD:PUBLISH
X-WR-CALNAME:Patriot Guard Riders
X-ORIGINAL-URL:https://www.patriotguard.org
X-WR-CALDESC:Events for Patriot Guard Riders
BEGIN:VTIMEZONE
TZID:America/New_York
BEGIN:DAYLIGHT
TZOFFSETFROM:-0500
TZOFFSETTO:-0400
TZNAME:EDT
DTSTART:20100314T070000
END:DAYLIGHT
BEGIN:STANDARD
TZOFFSETFROM:-0400
TZOFFSETTO:-0500
TZNAME:EST
DTSTART:20101107T060000
END:STANDARD
END:VTIMEZONE
BEGIN:VEVENT
DTSTART;TZID=America/New_York:20101003T090000
DTEND;TZID=America/New_York:20101003T110000
DTSTAMP:20210511T135747
CREATED:20101003T130000Z
LAST-MODIFIED:20191201T104912Z
UID:349474-1286096400-1286103600@www.patriotguard.org
SUMMARY:Stand Down Welcome Home - SPC Dallas Brown\, USA
DESCRIPTION:STAND DOWN!!! \nDallas caught an earlier flight. \nHe arrived at 1000 this morning. \nRandy Hall\naka SportyPig\nTN Assistant State Captain \n************************************************************************************************************ \nHAPPY MISSION! \nWe have a much needed happy mission. \nWelcome home for Spec. Dallas Brown\, 175th Calvery.  He is coming home from Afghanistan for some much needed R & R. \nStaging: \nK-Mart parking lot.\n530 Donelson Pk \nThis is about a half mile north of I-40 at exit 216 \nDate:  October 3\, 2010\nTime: 1530\, KSU 1610 \nCome early to allow for an early arrival of the flight. \nWe will have a flag line at the airport to welcome home this hero!! \nGoing to be perfect weather for motorcycles tomorrow.  No excuse to not make this feel good mission. \nSee ya there\, \nRandy Hall\naka SportyPig\nTN Assistant State Captain
URL:https://www.patriotguard.org/mission/stand-down-welcome-home-spc-dallas-brown-usa/
END:VEVENT
END:VCALENDAR