BEGIN:VCALENDAR
VERSION:2.0
PRODID:-//Patriot Guard Riders - ECPv5.6.0//NONSGML v1.0//EN
CALSCALE:GREGORIAN
METHOD:PUBLISH
X-WR-CALNAME:Patriot Guard Riders
X-ORIGINAL-URL:https://www.patriotguard.org
X-WR-CALDESC:Events for Patriot Guard Riders
BEGIN:VTIMEZONE
TZID:America/New_York
BEGIN:DAYLIGHT
TZOFFSETFROM:-0500
TZOFFSETTO:-0400
TZNAME:EDT
DTSTART:20160313T070000
END:DAYLIGHT
BEGIN:STANDARD
TZOFFSETFROM:-0400
TZOFFSETTO:-0500
TZNAME:EST
DTSTART:20161106T060000
END:STANDARD
END:VTIMEZONE
BEGIN:VEVENT
DTSTART;TZID=America/New_York:20160708T090000
DTEND;TZID=America/New_York:20160708T110000
DTSTAMP:20210512T141839
CREATED:20160708T130000Z
LAST-MODIFIED:20191201T155152Z
UID:416719-1467968400-1467975600@www.patriotguard.org
SUMMARY:STAND DOWN/HOTH
DESCRIPTION:3rd Annual Welcome Home From Erie Zoo / 8 July 16 Erie\, PA\n\n\n\nThe Patriot Guard Riders have been invited to participate and form a Flag Line for a Ceremony for our American Heroes. \nErie VA  invites returning Veterans\, their families\, and veterans of all eras to attend the Annual Welome Home in Honor of their Service.  This event is a one stop shop to connect with a number of VA program representatives and other Veteran-related community resources while offering fun for the entire family. \nFriday\, 8 July 2016 \nStaging: 1700 \nSheetz\n8180 Perry Hwy\nErie\, PA 16509\nhttps://goo.gl/maps/Md9NTnv5fqJ2 \nBriefing: 1715 \nKSU: 1730 \nFlag Line: 1745 \nErie Zoo\n423 W 38th St\nErie\, PA 16508\nhttps://goo.gl/maps/vsr1mVRZby32 \nCeremony 1800–2100 \nRCIC: Jeffrey Scott\n(814) 384-3614\njhogshop@hotmail.com \nACIC: Dale Mallory\n(724) 992-9186\ntazmall@hotmail.com \nDress Accordingly. Please Bring Your 3 X 5 Flag.  HYDRATE
URL:https://www.patriotguard.org/mission/stand-down-hoth-8/
CATEGORIES:Archive
END:VEVENT
END:VCALENDAR