BEGIN:VCALENDAR
VERSION:2.0
PRODID:-//Patriot Guard Riders - ECPv5.3.2.1//NONSGML v1.0//EN
CALSCALE:GREGORIAN
METHOD:PUBLISH
X-WR-CALNAME:Patriot Guard Riders
X-ORIGINAL-URL:https://www.patriotguard.org
X-WR-CALDESC:Events for Patriot Guard Riders
BEGIN:VTIMEZONE
TZID:America/New_York
BEGIN:DAYLIGHT
TZOFFSETFROM:-0500
TZOFFSETTO:-0400
TZNAME:EDT
DTSTART:20160313T070000
END:DAYLIGHT
BEGIN:STANDARD
TZOFFSETFROM:-0400
TZOFFSETTO:-0500
TZNAME:EST
DTSTART:20161106T060000
END:STANDARD
END:VTIMEZONE
BEGIN:VEVENT
DTSTART;TZID=America/New_York:20161217T090000
DTEND;TZID=America/New_York:20161217T110000
DTSTAMP:20210405T220416
CREATED:20161217T140000Z
LAST-MODIFIED:20191201T155141Z
UID:416703-1481965200-1481972400@www.patriotguard.org
SUMMARY:STAND DOWN
DESCRIPTION:updated 16 DEC 16@2040est ArmySSG \nSTAND DOWN \n**************************  \n\n\nWreaths Across America\nIowa Veterans Home\nMarshalltown\, IA\n17 Dec\, 2016\n\n\n\nThe Patriot Guard has once again been asked to participate in the annual Wreaths Across America program to be held at the Iowa Veterans Home. As we have in the past\, we will be collecting donations for the residents based on their want list (see below). \nDate/time: 11:00 AM\, Saturday\, 17 Dec\, 2016 \nLocation:\nMalloy Leisure Resource Center\nIowa Veterans Home\n1301 Summit Street\nMarshalltown\, IA \nRally time: 10:15 AM; briefing at 10:40 AM \nRC: Rick Claassen\nhfd650@yahoo.com\n319-230-9740 \n1.  Items Currently Needed:\n·         Word Search\, “Fill-it-in”\, and Variety puzzle books\n·         Men’s aftershave/cologne (no aerosol)\n·         Full size personal care items (shampoo\, deodorant\, men’s body wash)\n·         Candy bars – full size & snack size\n·         Individually wrapped snack items (“Little Debbie” snacks\, chips\, cookies)\n·         Microwave popcorn\n·         Cans of soda pop (diet & regular)\n·         Bottles of ketchup and mustard\n·         Forever Postage Stamps\n·         Used tennis balls for the bottom of walkers\n·         Heavy material to make bags to hold wheelchair pedals\n·         Men’s Cloth Handkerchiefs (NEW – white)\n·         Large Print Playing Cards\n·         Adult Coloring Books \n·         NEW CLOTHING DONATIONS:  Only new clothing will be accepted. Primarily XL and above  (as large as 5X)\nTennis Shoes (Size 10 mens)\, Tee Shirts w/Pocket\, Underwear\, Gloves\, Coats\, Socks\, Long Sleeved Undershirts\, Sweat pants\, Sweat Shirts\, Pajamas\, are especially needed\n·         iTunes gift cards for Music Program\n·         Relaxation\, country and big band CDs\n·         Country\, big band and patriotic songbooks\n·         Money – earmarked for dorm refrigerators\, artwork\, recliners\, and lift chairs\n·         Popcorn for Tuesday Popcorn Program (white regular popcorn – not microwave)\n·         Craft Items – Dry erase markers\, colored pencils\,  simple snap on models\, paint or color by number\,  modeling clay\, canvases\, acrylic and watercolor paints\, temper paints\,  any kids or simple art projects\, fabric\, sewing machine thread\, old jewelry/beads \n2.  We Do Not Accept:\n·         Used clothing -.\n·         Trial sized or used personal care items – (shampoo\, deodorant\, body wash\, lotion) \nNOT needed at this time: lap blankets\, playing cards\, books\, combs\, toothpaste or toothbrushes.
URL:https://www.patriotguard.org/mission/stand-down-8/
CATEGORIES:Archive
END:VEVENT
END:VCALENDAR