BEGIN:VCALENDAR
VERSION:2.0
PRODID:-//Patriot Guard Riders - ECPv5.6.0//NONSGML v1.0//EN
CALSCALE:GREGORIAN
METHOD:PUBLISH
X-WR-CALNAME:Patriot Guard Riders
X-ORIGINAL-URL:https://www.patriotguard.org
X-WR-CALDESC:Events for Patriot Guard Riders
BEGIN:VTIMEZONE
TZID:America/New_York
BEGIN:DAYLIGHT
TZOFFSETFROM:-0500
TZOFFSETTO:-0400
TZNAME:EDT
DTSTART:20160313T070000
END:DAYLIGHT
BEGIN:STANDARD
TZOFFSETFROM:-0400
TZOFFSETTO:-0500
TZNAME:EST
DTSTART:20161106T060000
END:STANDARD
END:VTIMEZONE
BEGIN:VEVENT
DTSTART;TZID=America/New_York:20160728T090000
DTEND;TZID=America/New_York:20160728T110000
DTSTAMP:20210512T153930
CREATED:20160728T130000Z
LAST-MODIFIED:20191201T144048Z
UID:410345-1469696400-1469703600@www.patriotguard.org
SUMMARY:SSgt William Malone III\, 75\, USA
DESCRIPTION:SSgt William Malone III\, 75\nUnited States Air Force Retired\nVietnam Era Veteran\nFort Walton Beach\, Florida\nThursday July 28\, 2016\n\n\n\nThe Patriot Guard Riders has been requested by the Family (Candice Malone/Daughter) of SSgt William Malone III\, to stand in his Honor at a graveside ceremony\, at Beal Cemetery\, 316 Beal Parkway\, Ft. Walton Beach\, FL.   This is going to be a private arranged ceremony by the family\, no funeral home or church will be involved.  SSgt Malone III was initially in the U. S. Army and later transferred to the U. S. Air Force. \n** This Mission is for Team One East. Please check the roster for team assignments** \nNOTE: It is suggested that all riders ride with long sleeves shirts\, long trousers\, long fingered gloves\, leather footwear covering the ankles\, DOT approved helmets and the appropriate eye wear. \nItinerary: \n08:50 – Staging at\nHardee’s\n822 Beal Parkway Northwest\nFt. Walton Beach\, FL \n09:45 – Safety Briefing \n10:00 – KSU to Beal Cemetery \n10:15 – Flag Line and Honor Guard in place/USAF Honor Guard will attend \n10:30 – Private Service at Beal Cemetery\, Section Peace \nNote:  All riders will attend Safety Briefing. \n*****We Ride So No Veteran Goes Home Alone***** \nIf you have any questions\, please call the ride captain: \nJohn G. Miller\n“ChopperJohn”\n850-380-9232\nroadking.flhrci@yahoo.com \nRespectfully submitted by\nJohn Lowery\, ASC  FL
URL:https://www.patriotguard.org/mission/ssgt-william-malone-iii-75-usa/
CATEGORIES:Archive
END:VEVENT
END:VCALENDAR