BEGIN:VCALENDAR
VERSION:2.0
PRODID:-//Patriot Guard Riders - ECPv5.3.2.1//NONSGML v1.0//EN
CALSCALE:GREGORIAN
METHOD:PUBLISH
X-WR-CALNAME:Patriot Guard Riders
X-ORIGINAL-URL:https://www.patriotguard.org
X-WR-CALDESC:Events for Patriot Guard Riders
BEGIN:VTIMEZONE
TZID:America/New_York
BEGIN:DAYLIGHT
TZOFFSETFROM:-0500
TZOFFSETTO:-0400
TZNAME:EDT
DTSTART:20180311T070000
END:DAYLIGHT
BEGIN:STANDARD
TZOFFSETFROM:-0400
TZOFFSETTO:-0500
TZNAME:EST
DTSTART:20181104T060000
END:STANDARD
END:VTIMEZONE
BEGIN:VEVENT
DTSTART;VALUE=DATE:20180728
DTEND;VALUE=DATE:20180729
DTSTAMP:20210401T211759
CREATED:20180728T001745Z
LAST-MODIFIED:20180728T001817Z
UID:129391-1532736000-1532822399@www.patriotguard.org
SUMMARY:SSGT Rovin Noe Canales
DESCRIPTION:Honor Mission\nSSGT Rovin Noe Canales\, Active Duty\nUSMC – WoT\nMorrisville\, North Carolina – 07-28-18\n\n\n\n\nABOUT THE MISSION: \nPatriots once again we have been honored to stand and escort a Hero\, (AD) SSGT Rovin Noe Canales. SSGT Canales join the Marines in 2006. He attended high school in Selma NC. He was with the 6th Marine Communication Battalion\, Brooklyn NY. As SSGT Canales stood for us\, it will be our Honor to stand and escort him to McLaurin Funeral Home in Clayton NC .\n\n\nPRIMARY STAGING DETAILS: 07-28-18 \nStaging Time: 1:15 PM  \nSheetz parking lot\n1600 Aviation Pwky\nMorrisville\, North Carolina 27560\n\n\nRide Captain: \nRandy Bright\nrandybrightfd@hotmail.com\n919-616-4603\n\n\nSpecial Instructions: \nStaging: 1:15 pm\nBriefing: 1:45 pm\nKSU : 2:00 pm. Move to RDU for flag line and prepare for escort with LEO Wake County Sheriff Dept.\n\n\nFlags & Water:\nFlags will be provided\nIf you have large bike flags\, please bring them.\nWater will be provided.\n\n\n\nSubmitted By: Charles Bullock \nPosition: North Carolina Assistant State Captain \n\nNote: You do not have to own/ride a motorcycle or be a veteran to join\, and membership is Free. The only requirement is RESPECT! To subscribe to receive mission notices\, log into the National Site and click on the Members tab at the top. Select the Subscribe to PGR Missions option.\n Print This Page
URL:https://www.patriotguard.org/mission/ssgt-rovin-noe-canales/
CATEGORIES:Honor Mission
END:VEVENT
END:VCALENDAR