BEGIN:VCALENDAR
VERSION:2.0
PRODID:-//Patriot Guard Riders - ECPv5.6.0//NONSGML v1.0//EN
CALSCALE:GREGORIAN
METHOD:PUBLISH
X-WR-CALNAME:Patriot Guard Riders
X-ORIGINAL-URL:https://www.patriotguard.org
X-WR-CALDESC:Events for Patriot Guard Riders
BEGIN:VTIMEZONE
TZID:America/New_York
BEGIN:DAYLIGHT
TZOFFSETFROM:-0500
TZOFFSETTO:-0400
TZNAME:EDT
DTSTART:20160313T070000
END:DAYLIGHT
BEGIN:STANDARD
TZOFFSETFROM:-0400
TZOFFSETTO:-0500
TZNAME:EST
DTSTART:20161106T060000
END:STANDARD
END:VTIMEZONE
BEGIN:VEVENT
DTSTART;TZID=America/New_York:20160603T090000
DTEND;TZID=America/New_York:20160603T110000
DTSTAMP:20210513T185025
CREATED:20160603T130000Z
LAST-MODIFIED:20191201T145439Z
UID:411606-1464944400-1464951600@www.patriotguard.org
SUMMARY:SSgt Raeburn Kriesel\, USAF(RET)\, Vietnam / Zimmerman
DESCRIPTION:All: \nThe family of SSgt Raeburn Kriesel  has invited the Patriot Guard to stand a flag line in honor of his life and service to our country. \nSSgt Kriesel served in the US Air Force from 1960 –1981 with part of his service during the Viet Nam area. SSgt Kriesel served as a Radar Tower Technician and loved every minute of his service.\n\nWith the short notice and a week day Mission please do what you can to help for the Mission either at the Church or at the Cemetery or both.  \nPlease come out and stand in silent tribute to Honor SSgt Kriesel’s  life and service to our country. \n0900 – Stage opens  (St. John Lutheran Church 13045 Fremont Avenue\, Zimmerman\, MN 55398\n0920 – Briefing\n0930 – Set Flag Line\n10:00–11:00  Visitation \nStand down during the Service Per RCIC\nMove to Cemetery per RCIC \nImmediately following the Service Full Military Honors provided at the Baldwin Cemetery (Approximately 12:15–12:30 time frame)  (30447-30499 108th Street Princeton MN)\n\nDismissal at RCIC’s discretion.\n\nThis is a rain\, or shine mission. Please bring your 3 x 5 American Flag and anything else you may need for the duration of this mission. \nYour patience and understanding is needed for this Mission as the details may change by time of Mission (RCIC to update all) \nRCIC: Jim Parent\, Brainerd ARC
URL:https://www.patriotguard.org/mission/ssgt-raeburn-kriesel-usafret-vietnam-zimmerman/
CATEGORIES:Archive
END:VEVENT
END:VCALENDAR