BEGIN:VCALENDAR
VERSION:2.0
PRODID:-//Patriot Guard Riders - ECPv5.6.0//NONSGML v1.0//EN
CALSCALE:GREGORIAN
METHOD:PUBLISH
X-WR-CALNAME:Patriot Guard Riders
X-ORIGINAL-URL:https://www.patriotguard.org
X-WR-CALDESC:Events for Patriot Guard Riders
BEGIN:VTIMEZONE
TZID:America/New_York
BEGIN:DAYLIGHT
TZOFFSETFROM:-0500
TZOFFSETTO:-0400
TZNAME:EDT
DTSTART:20160313T070000
END:DAYLIGHT
BEGIN:STANDARD
TZOFFSETFROM:-0400
TZOFFSETTO:-0500
TZNAME:EST
DTSTART:20161106T060000
END:STANDARD
END:VTIMEZONE
BEGIN:VEVENT
DTSTART;TZID=America/New_York:20160729T090000
DTEND;TZID=America/New_York:20160729T110000
DTSTAMP:20210512T230615
CREATED:20160729T130000Z
LAST-MODIFIED:20191201T144019Z
UID:410303-1469782800-1469790000@www.patriotguard.org
SUMMARY:SSgt John Bristow\, Jr.
DESCRIPTION:Patriot’s Name:  SSgt John Bristow\, Jr.\nMilitary Branch:  United States Air Force\nClassification:  Retired From Military \nMission Ride Captain:\nDarl “Mach II” Easton\, darl444@msn.com\, (817) 296-5123 \nMission Summary:\nThe Family Has Asked The PGR To Stand A Flag Line At Inurnment Service at the DFW National Cemetery \nPART 1:  Inurnment\nMission Date:  Jul 29\, 2016 – Friday\nStaging Time:  13:45\nBriefing Time:  14:00\nIn Position Time Or KSU:  14:15\nService Start Time:  14:30 \nDetails Of Part 1:\nThe PGR will stage at the DFW National Cemetery Visitor Center for a short briefing and proceed to the assigned shelter to setup and stand the flag line. Honor bikes will be selected to join the procession from the staging area to assigned shelter. \nName Of Staging Point:\nDFW National Cemetery\n2000 Mountain Creek Pkwy\nDallas\, Texas 75211
URL:https://www.patriotguard.org/mission/ssgt-john-bristow-jr/
CATEGORIES:Archive
END:VEVENT
END:VCALENDAR