BEGIN:VCALENDAR
VERSION:2.0
PRODID:-//Patriot Guard Riders - ECPv5.6.0//NONSGML v1.0//EN
CALSCALE:GREGORIAN
METHOD:PUBLISH
X-WR-CALNAME:Patriot Guard Riders
X-ORIGINAL-URL:https://www.patriotguard.org
X-WR-CALDESC:Events for Patriot Guard Riders
BEGIN:VTIMEZONE
TZID:America/New_York
BEGIN:DAYLIGHT
TZOFFSETFROM:-0500
TZOFFSETTO:-0400
TZNAME:EDT
DTSTART:20160313T070000
END:DAYLIGHT
BEGIN:STANDARD
TZOFFSETFROM:-0400
TZOFFSETTO:-0500
TZNAME:EST
DTSTART:20161106T060000
END:STANDARD
END:VTIMEZONE
BEGIN:VEVENT
DTSTART;TZID=America/New_York:20160808T090000
DTEND;TZID=America/New_York:20160808T110000
DTSTAMP:20210512T023223
CREATED:20160808T130000Z
LAST-MODIFIED:20191201T143801Z
UID:410094-1470646800-1470654000@www.patriotguard.org
SUMMARY:SSgt Herman H. McClellan\, Jr.\, 52
DESCRIPTION:Members: \nIt is with sadness to say that we have lost another American Hero. \nHerman H. McClellan\, Jr. SSgt. USAF retired. He gave 23 years of his life defending this great country from 1983 to 2006.  Thank you SSgt.McClellan for your service. \nThe family has requested that Patriot Guard Riders honor SSgt. McClellan’s life and for his service to our country with a flag line and escort to his resting place. \nWhen/Where:\nServices:\nMonday\, August 8\,\nPeekskill\, NY\, 2016 10566 \nInterment:\nRose Hills Memorial Park\nPutnam Valley\, NY 10579 \nJohn Tibbs\njrtibbscar@aol.com\nCell: 914 649-8063
URL:https://www.patriotguard.org/mission/ssgt-herman-h-mcclellan-jr-52/
END:VEVENT
END:VCALENDAR