BEGIN:VCALENDAR
VERSION:2.0
PRODID:-//Patriot Guard Riders - ECPv5.6.0//NONSGML v1.0//EN
CALSCALE:GREGORIAN
METHOD:PUBLISH
X-WR-CALNAME:Patriot Guard Riders
X-ORIGINAL-URL:https://www.patriotguard.org
X-WR-CALDESC:Events for Patriot Guard Riders
BEGIN:VTIMEZONE
TZID:America/New_York
BEGIN:DAYLIGHT
TZOFFSETFROM:-0500
TZOFFSETTO:-0400
TZNAME:EDT
DTSTART:20160313T070000
END:DAYLIGHT
BEGIN:STANDARD
TZOFFSETFROM:-0400
TZOFFSETTO:-0500
TZNAME:EST
DTSTART:20161106T060000
END:STANDARD
END:VTIMEZONE
BEGIN:VEVENT
DTSTART;TZID=America/New_York:20160818T090000
DTEND;TZID=America/New_York:20160818T110000
DTSTAMP:20210511T204844
CREATED:20160818T130000Z
LAST-MODIFIED:20191201T143525Z
UID:409849-1471510800-1471518000@www.patriotguard.org
SUMMARY:SSgt Harvey Kessler\, USAF(RET)
DESCRIPTION:Please note that due to ongoing OPSEC concerns\, mission details are not shown in this posting. All specific details and updates have been sent to members directly via their e-mail address on file.\n\nMembers: \nThe family of SSG Harvey Kessler\, U.S. Air Force (Ret.)\, has requested the Patriot Guard to stand a flag line to honor his service to our country at his graveside service on August 18\, 2016. \nSSG Kessler was a native of Rome\, NY and proudly served in the U.S. Air Force for 24 years.  He deployed to Viet Nam five times before retiring from active duty during the 1980s.  Harvey’s nephew is a member of the PGR in NY. \nWhen/Where:\nThursday\, August 18\, 2016\nRome\, NY \nLRC:\nJim Sieffert\nsieffert@twcny.rr.com \nWe will stage at the Rome Cemetery\, 1500 Jervis Avenue\, Rome\, NY and stand a flag line as the family arrives for SSgt Kessler’s service.Upon entering the cemetery\, proceed to the left from the main entrance.  The Kessler family site is near the pond. \nPlease join the Patriot Guard Riders in honoring Harvey as he is laid to final rest after a career of faithful service to our nation.
URL:https://www.patriotguard.org/mission/ssgt-harvey-kessler-usafret/
CATEGORIES:Archive
END:VEVENT
END:VCALENDAR