BEGIN:VCALENDAR
VERSION:2.0
PRODID:-//Patriot Guard Riders - ECPv5.3.2.1//NONSGML v1.0//EN
CALSCALE:GREGORIAN
METHOD:PUBLISH
X-WR-CALNAME:Patriot Guard Riders
X-ORIGINAL-URL:https://www.patriotguard.org
X-WR-CALDESC:Events for Patriot Guard Riders
BEGIN:VTIMEZONE
TZID:America/New_York
BEGIN:DAYLIGHT
TZOFFSETFROM:-0500
TZOFFSETTO:-0400
TZNAME:EDT
DTSTART:20190310T070000
END:DAYLIGHT
BEGIN:STANDARD
TZOFFSETFROM:-0400
TZOFFSETTO:-0500
TZNAME:EST
DTSTART:20191103T060000
END:STANDARD
END:VTIMEZONE
BEGIN:VEVENT
DTSTART;VALUE=DATE:20190811
DTEND;VALUE=DATE:20190812
DTSTAMP:20210402T100721
CREATED:20190810T042305Z
LAST-MODIFIED:20190810T044650Z
UID:169924-1565481600-1565567999@www.patriotguard.org
SUMMARY:Spirit of 45
DESCRIPTION:Memorial\nSpirit of 45\nUSA USMC USN USAF USCG – WWII\nMontevallo\, Alabama – 08-11-19\n\n\n\nABOUT THE MISSION: \nThe Alabama National Cemetery Support Committee has kindly asked the Patriot Guard Riders to stand a flag line for the Spirit of 45 Ceremony. We will meet at the Admin Bldg at 6:15 PM and ride to Shelter 3 together\, This year it will be a small Ceremony.\n\n\nPRIMARY STAGING DETAILS: 08-11-19 \nStaging Time: 6:15 pm  \nAlabama National Cemetery\n3133 Highway 119\nMontevallo\, Alabama 35115\nhttps://www.mapquest.com/us/alabama/business-montevallo/birmingham-area-va-national-cemetery-352839734\n\n\nRide Captain: \nHarvey Nabors\n205-915-5128\nhnabors@att.net\n\n\nSpecial Instructions: \nStaging at Admin Bldg\n\n\nFlags & Water:\nFlags will be provided\nIf you have large bike flags\, please bring them.\nWater WILL NOT be provided\, please bring your own.\n\n\nSubmitted By: Russell Dean Padgett \nPosition: Alabama Ride Captain \n\nNote: You do not have to own/ride a motorcycle or be a veteran to join\, and membership is Free. The only requirement is RESPECT! To subscribe to receive mission notices\, log into the National Site and click on the Members tab at the top. Select the Subscribe to PGR Missions option.\n Print This Page
URL:https://www.patriotguard.org/mission/spirit-of-45/
CATEGORIES:Memorial
END:VEVENT
END:VCALENDAR