BEGIN:VCALENDAR
VERSION:2.0
PRODID:-//Patriot Guard Riders - ECPv5.6.0//NONSGML v1.0//EN
CALSCALE:GREGORIAN
METHOD:PUBLISH
X-WR-CALNAME:Patriot Guard Riders
X-ORIGINAL-URL:https://www.patriotguard.org
X-WR-CALDESC:Events for Patriot Guard Riders
BEGIN:VTIMEZONE
TZID:America/New_York
BEGIN:DAYLIGHT
TZOFFSETFROM:-0500
TZOFFSETTO:-0400
TZNAME:EDT
DTSTART:20160313T070000
END:DAYLIGHT
BEGIN:STANDARD
TZOFFSETFROM:-0400
TZOFFSETTO:-0500
TZNAME:EST
DTSTART:20161106T060000
END:STANDARD
END:VTIMEZONE
BEGIN:VEVENT
DTSTART;TZID=America/New_York:20160816T090000
DTEND;TZID=America/New_York:20160816T110000
DTSTAMP:20210512T032522
CREATED:20160816T130000Z
LAST-MODIFIED:20191201T143550Z
UID:409889-1471338000-1471345200@www.patriotguard.org
SUMMARY:SPC Ryan N. Coz\, USA (AD) / Watertown
DESCRIPTION:Please note that due to ongoing OPSEC concerns\, mission details are not  shown in this posting. All specific details and updates have been sent  to members directly via their e-mail address on file. \nRiders\, we  have just been requested to escort a deceased United States Army  soldier\, SPC Ryan N. Coz\, from Watertown to Syracuse\, NY. \nWhen/Where:\nTuesday\, August 16\, 2016\nWatertown\, NY  13601 \nStaging 6:30\, KSU 7:00am\n\nLRC – Watertown:\nGreg Pluhar\ndarkstarz20@yahoo.com \nEscort to Syracuse Airport\nStaging at Airport – 8:00am \nARC – Syracuse:\nBruce Dauer\nbrdauer@gmail.com \nPGR members will conduct dignified transfer at the airport.
URL:https://www.patriotguard.org/mission/spc-ryan-n-coz-usa-ad-watertown/
CATEGORIES:Archive
END:VEVENT
END:VCALENDAR