BEGIN:VCALENDAR
VERSION:2.0
PRODID:-//Patriot Guard Riders - ECPv5.6.0//NONSGML v1.0//EN
CALSCALE:GREGORIAN
METHOD:PUBLISH
X-WR-CALNAME:Patriot Guard Riders
X-ORIGINAL-URL:https://www.patriotguard.org
X-WR-CALDESC:Events for Patriot Guard Riders
BEGIN:VTIMEZONE
TZID:America/New_York
BEGIN:DAYLIGHT
TZOFFSETFROM:-0500
TZOFFSETTO:-0400
TZNAME:EDT
DTSTART:20160313T070000
END:DAYLIGHT
BEGIN:STANDARD
TZOFFSETFROM:-0400
TZOFFSETTO:-0500
TZNAME:EST
DTSTART:20161106T060000
END:STANDARD
END:VTIMEZONE
BEGIN:VEVENT
DTSTART;TZID=America/New_York:20160531T090000
DTEND;TZID=America/New_York:20160531T110000
DTSTAMP:20210513T135939
CREATED:20160531T130000Z
LAST-MODIFIED:20191201T145609Z
UID:411745-1464685200-1464692400@www.patriotguard.org
SUMMARY:SPC Loyal William Thompson III
DESCRIPTION:The family of SPC Loyal William Thompson III have requested the Patriot Guard Riders stand a flag line  and honor their hero and family member. It will be our honor to do so. \nLoyal William Thompson III A native of San Diego\, CA\, Loyal moved to Smyrna\, GA in 1998. He served in the Georgia National Guard since 2009 and enjoyed being an entrepreneur\, owning and operating Photobuzz Majestic Photo Booth. His passion was riding motorcycles\, and he belonged to the TTG Motorcycle Club. Loyal was also the founder of WAR! Clan online gaming community. One of his greatest wishes was to leave the world a greater place. \nThis will be a Flag line only mission at West Cobb Funeral Home\nTuesday\, May 31\, 2016\nWest Cobb FH 2480 Macland Road\, Marietta GA 30064 \nStaging will be at the funeral home nlt 10:25 AM. \nWe will set a flag line at 10:45 until 12:00 for visitation. We will stay for the 1:00 pm rendering of Honors by the GA National Guard. After Honors\, we will leave. \nThe weather report is for the high of 90 degrees with a 20% chance of showers\, please hydrate properly. \nRC Tom “Knobby ” Walsh\npatriotguardrider.tom@gmail.com\n770-605-6903 \nFlag Wagon Reuben ” Tailgunner”  Baumgardner
URL:https://www.patriotguard.org/mission/spc-loyal-william-thompson-iii-2/
CATEGORIES:Archive
END:VEVENT
END:VCALENDAR