BEGIN:VCALENDAR
VERSION:2.0
PRODID:-//Patriot Guard Riders - ECPv5.6.0//NONSGML v1.0//EN
CALSCALE:GREGORIAN
METHOD:PUBLISH
X-WR-CALNAME:Patriot Guard Riders
X-ORIGINAL-URL:https://www.patriotguard.org
X-WR-CALDESC:Events for Patriot Guard Riders
BEGIN:VTIMEZONE
TZID:America/New_York
BEGIN:DAYLIGHT
TZOFFSETFROM:-0500
TZOFFSETTO:-0400
TZNAME:EDT
DTSTART:20160313T070000
END:DAYLIGHT
BEGIN:STANDARD
TZOFFSETFROM:-0400
TZOFFSETTO:-0500
TZNAME:EST
DTSTART:20161106T060000
END:STANDARD
END:VTIMEZONE
BEGIN:VEVENT
DTSTART;TZID=America/New_York:20160620T090000
DTEND;TZID=America/New_York:20160620T110000
DTSTAMP:20210513T151724
CREATED:20160620T130000Z
LAST-MODIFIED:20191201T145021Z
UID:411221-1466413200-1466420400@www.patriotguard.org
SUMMARY:SPC Brandon A. Banner\, 22\, USA (AD) / Milton
DESCRIPTION:SPC BRANDON AUSTIN BANNER\, 22\nUnited States Army\nMilton\, Fl.\nMonday 20\, June 2016\nActive Duty\n\n\nThe  family of SPC\, Brandon Austin Banner\, United States Army\, has invited  the Patriot Guard to stand in his honor and to escort him to Barrancas  National Cemetery for final Honors.  SPC Banner joined the U. S. Army on  3 June 2014; he served for 2 years\, and 2 months.  He was assigned to  Foxtrot\, Forward Support Company\, 3rd Battalion\, 16th Field Artillery Regiment\, 2nd Brigade\, 1st Cavalry Division\, Fort Hood\, Texas.\n\nSPC  Banner was one of nine U. S. Army Soldiers lost to torrential floods  during a training accident involving an overturned Light Medium Tactical  Vehicle.  The accident occurred on June 2nd 2016\, at Owl Creek\, on Fort Hood\, TX.\n\nSPC Banner’s listed awards are the Army Commendation Medal.\n\nTrahan Family Funeral Home of Milton\, 6539 Trammel Dr. Milton\, FL. will be in charge of the arrangements. \n\nServices will be held at 12:00\, Monday 20\, June 2016\, at 1st  Assembly of God Church\, 6163 Dogwood Dr. Milton\, Fl.\nSPC Banner will  then be LEO escorted to Barrancas National Cemetery\, Pensacola\, FL. for  final Honors.\n\nNote:  Naval Air Station\, Pensacola requires that appropriate safety equipment  (DOT approved Helmets\, eyewear\, Gloves\, Long Sleeve Shirt/Jacket\, Long  Trousers and leather footwear covering the ankles be worn at all times  while riding aboard the station.\n\nFor Safety reasons all riders will attend the safety briefing.\n\nItinerary:\n1015 – Staging at Whataburger\, 5346 Stewart St. Milton\, FL.  \n1100 – Briefing\n1115 – KSU to 1st Assembly of God Church Milton\, FL\n1130 – Flag Line \n1200 – Service \n1330 – KSU\, to Barrancas National Cemetery\, Pensacola\, FL\n1500 – Honors at Barrancas National Cemetery.\n\nIf you have any questions contact:\n\nRide Captain\nRoy Pippin\n251-979-7241\nsmokeynal.rp@gmail.com
URL:https://www.patriotguard.org/mission/spc-brandon-a-banner-22-usa-ad-milton/
CATEGORIES:Archive
END:VEVENT
END:VCALENDAR