BEGIN:VCALENDAR
VERSION:2.0
PRODID:-//Patriot Guard Riders - ECPv5.3.2.1//NONSGML v1.0//EN
CALSCALE:GREGORIAN
METHOD:PUBLISH
X-WR-CALNAME:Patriot Guard Riders
X-ORIGINAL-URL:https://www.patriotguard.org
X-WR-CALDESC:Events for Patriot Guard Riders
BEGIN:VTIMEZONE
TZID:America/New_York
BEGIN:DAYLIGHT
TZOFFSETFROM:-0500
TZOFFSETTO:-0400
TZNAME:EDT
DTSTART:20190310T070000
END:DAYLIGHT
BEGIN:STANDARD
TZOFFSETFROM:-0400
TZOFFSETTO:-0500
TZNAME:EST
DTSTART:20191103T060000
END:STANDARD
END:VTIMEZONE
BEGIN:VEVENT
DTSTART;VALUE=DATE:20190527
DTEND;VALUE=DATE:20190528
DTSTAMP:20210405T140902
CREATED:20190524T104727Z
LAST-MODIFIED:20190524T104727Z
UID:162213-1558915200-1559001599@www.patriotguard.org
SUMMARY:Sparta Memorial Service And Parade
DESCRIPTION:HOTH Mission\nSparta Memorial Service And Parade\nSparta\, North Carolina – 05-27-19\n\n\n\n\nABOUT THE MISSION: \nPatriots we have been invited to come join\, and the PGR be recognized\, at the Sparta Memorial Service and Parade. There will be food and fellowship there as well.  It will be an honor to stand and remember all Veterans who put there life on the line for our freedom on this special day.\n\n\nPRIMARY STAGING DETAILS: 05-27-19 \nStaging Time: 12:00 p.m.  \n1193 US-21 S\nSparta\, North Carolina 28675\nMap\n\n\nRide Captain: \nRoger Carroll\, 336-870-3545\, patriotrogercarroll76@gmail.com\n\n\nSpecial Instructions: \nMeet Thomas Ham at VFW post 7034 in Sparta\, NC by 12 to 12:15 pm.  He is leaving the VFW by 12:30 pm\, to head to veterans park. His cell# is 336-572-2626.\n\n\nFlags & Water:\nFlags will be provided\nIf you have large bike flags\, please bring them.\nWater will be provided.\n\nSTAGING #2 DETAILS: 05-27-19 \nStaging Time: 2:00 p.m.  \n237 Duncan St\nSparta\, North Carolina 28675\nMap\n\n\nRide Captain: \nRoger Carroll\, 336-870-3545\, patriotrogercarroll76@gmail.com\n\n\nSpecial Instructions: \nA parade will be held after the memorial at 2 pm. Thomas ham will Be coordinator.\n\n\nFlags & Water:\nFlags will be provided\nIf you have large bike flags\, please bring them.\nWater will be provided.\n\n\nSubmitted By: Roger Carroll \nPosition: North Carolina Ride Captain \n\nNote: You do not have to own/ride a motorcycle or be a veteran to join\, and membership is Free. The only requirement is RESPECT! To subscribe to receive mission notices\, log into the National Site and click on the Members tab at the top. Select the Subscribe to PGR Missions option.\n Print This Page
URL:https://www.patriotguard.org/mission/sparta-memorial-service-and-parade/
CATEGORIES:HOTH Mission
END:VEVENT
END:VCALENDAR