BEGIN:VCALENDAR
VERSION:2.0
PRODID:-//Patriot Guard Riders - ECPv5.3.2.1//NONSGML v1.0//EN
CALSCALE:GREGORIAN
METHOD:PUBLISH
X-WR-CALNAME:Patriot Guard Riders
X-ORIGINAL-URL:https://www.patriotguard.org
X-WR-CALDESC:Events for Patriot Guard Riders
BEGIN:VTIMEZONE
TZID:America/New_York
BEGIN:DAYLIGHT
TZOFFSETFROM:-0500
TZOFFSETTO:-0400
TZNAME:EDT
DTSTART:20180311T070000
END:DAYLIGHT
BEGIN:STANDARD
TZOFFSETFROM:-0400
TZOFFSETTO:-0500
TZNAME:EST
DTSTART:20181104T060000
END:STANDARD
END:VTIMEZONE
BEGIN:VEVENT
DTSTART;TZID=America/New_York:20180510T114500
DTEND;TZID=America/New_York:20180510T134500
DTSTAMP:20210401T182221
CREATED:20180510T154500Z
LAST-MODIFIED:20200708T221432Z
UID:327519-1525952700-1525959900@www.patriotguard.org
SUMMARY:SP4 Daniel F. Menendez\, Veteran USA - Vietnam
DESCRIPTION:Honor Mission\nSP4 Daniel F. Menendez\, Veteran\nUSA – Vietnam\nSt. Louis\, Missouri – 10 May 2018\n\n\nABOUT THE MISSION: \nThe Patriot Guard has been honored with the request to escort an American Hero to his final place of rest. We gladly accept this duty.\nHero Menendez served our great nation in the United States Army during the Vietnam war.\nPRIMARY STAGING DETAILS: 10 May 2018\nPrimary Staging Time: 11:45 A.M. \nZiegenhein South County\n4830 Lemay Ferry Rd\nSt. Louis\, Missouri – 63129\nRide Captain: \nRide Captain: Rick “Curly” Kroeger\nrickkroeger@hotmail.com\n314.954.3060\nFlag Support: TBD\nSpecial Instructions: \nAt the conclusion of services we will escort our Hero and his family to St. Trinity Cemetery (Lemay Ferry & Reavis Barracks) (Slot 1400 HRS).\nWeather: Current forecasts calls for Temps in the mid 80’s.\nRide safe\, ride defensively. Cages welcome!OVER-HYDRATE the night before as well as the morning of this mission. Coffee is not hydration! \n\nFlags & Water: \nFlags Will Be Provided\nIf you have large bike flags\, please bring them.\nWater WILL NOT be provided\, please bring your own.\n  \n\nSubmitted By: Rick Kroeger\nPosition: Ride Captain\n \n\nNote:\nYou do not have to own/ride a motorcycle or be a Veteran to join and membership is Free. The only requirement is RESPECT! To join\, simply go to www.PatriotGuard.org and click on Register. Membership is Free. \nTo subscribe to receive mission notices\, log into the National Site and click on the Mission Tab at the top. Select the Subscribe to Missions option.
URL:https://www.patriotguard.org/mission/sp4-daniel-f-menendez-veteran-usa-vietnam/
CATEGORIES:Honor Mission
END:VEVENT
END:VCALENDAR