BEGIN:VCALENDAR
VERSION:2.0
PRODID:-//Patriot Guard Riders - ECPv5.3.2.1//NONSGML v1.0//EN
CALSCALE:GREGORIAN
METHOD:PUBLISH
X-WR-CALNAME:Patriot Guard Riders
X-ORIGINAL-URL:https://www.patriotguard.org
X-WR-CALDESC:Events for Patriot Guard Riders
BEGIN:VTIMEZONE
TZID:America/New_York
BEGIN:DAYLIGHT
TZOFFSETFROM:-0500
TZOFFSETTO:-0400
TZNAME:EDT
DTSTART:20190310T070000
END:DAYLIGHT
BEGIN:STANDARD
TZOFFSETFROM:-0400
TZOFFSETTO:-0500
TZNAME:EST
DTSTART:20191103T060000
END:STANDARD
END:VTIMEZONE
BEGIN:VEVENT
DTSTART;VALUE=DATE:20190928
DTEND;VALUE=DATE:20190929
DTSTAMP:20210401T081054
CREATED:20190928T092600Z
LAST-MODIFIED:20190928T092738Z
UID:176809-1569628800-1569715199@www.patriotguard.org
SUMMARY:Southern Arizona Honor Flight #28
DESCRIPTION:HOTH Mission\nSouthern Arizona Honor Flight #28\, Veterans\nUSA USMC USN USAF USCG – WWII\, Korea\, Vietnam\nTucson\, Arizona – 09-28-19\n\n\n\nABOUT THE MISSION: \nIt has been in the past\, it will be now\, and in the future\, our Honor as the Patriot Guard Riders to stand a flag-line for Southern Arizona Honor Flight #28.  Honor Flight #28 SOUTHERN ARIZONA HONOR FLIGHT will be carrying twenty three WWII\, Korean\, and Vietnam Veterans along with their guardians to our nations capital.  We are Honored to make sure these Veterans know that a whole nation cares and are proud of their service to this great country we live in.  For those of you new to the Honor Flight you can access more information at www.honorflightsaz.org and on facebook at Honor Flight Southern Arizona.  This may be the only chance to thank these heroes by coming out to meet them and stand a flag-line in their honor.\n\n\nPRIMARY STAGING DETAILS: 09-28-19 \nStaging: 2:00 AM\n \nAM/PM parking lot\nthe corner of Valencia and Tucson Blvd\nTucson\, Arizona 86706\n\n\nRide Captains: \nMagoo\n520-237-6691\n\nDaFlagGuy\n520-241-4530\n\n\nSpecial Instructions: \nBriefing: 2:15 AM\nKSU: 2:25 AM\n\n\nFlags & Water:\nFlags will be provided\nLarge Bike Flags will NOT be needed.\nWater will be provided.\n\nSubmitted By: Robi Campbell \nPosition: Arizona Assistant State Captain \n\nNote: You do not have to own/ride a motorcycle or be a veteran to join\, and membership is Free. The only requirement is RESPECT! To subscribe to receive mission notices\, log into the National Site and click on the Members tab at the top. Select the Subscribe to PGR Missions option.\n Print This Page
URL:https://www.patriotguard.org/mission/southern-arizona-honor-flight-28/
CATEGORIES:HOTH Mission
END:VEVENT
END:VCALENDAR