BEGIN:VCALENDAR
VERSION:2.0
PRODID:-//Patriot Guard Riders - ECPv5.3.2.1//NONSGML v1.0//EN
CALSCALE:GREGORIAN
METHOD:PUBLISH
X-WR-CALNAME:Patriot Guard Riders
X-ORIGINAL-URL:https://www.patriotguard.org
X-WR-CALDESC:Events for Patriot Guard Riders
BEGIN:VTIMEZONE
TZID:America/New_York
BEGIN:DAYLIGHT
TZOFFSETFROM:-0500
TZOFFSETTO:-0400
TZNAME:EDT
DTSTART:20130310T070000
END:DAYLIGHT
BEGIN:STANDARD
TZOFFSETFROM:-0400
TZOFFSETTO:-0500
TZNAME:EST
DTSTART:20131103T060000
END:STANDARD
END:VTIMEZONE
BEGIN:VEVENT
DTSTART;TZID=America/New_York:20131215T090000
DTEND;TZID=America/New_York:20131215T110000
DTSTAMP:20210404T105235
CREATED:20131215T140000Z
LAST-MODIFIED:20191201T140300Z
UID:406799-1387098000-1387105200@www.patriotguard.org
SUMMARY:Snowball Express VIII
DESCRIPTION:Snowball Express VIII 2013 Day 4 – Sunday VenuesCommunity Event \n\nMission Ride Captain:\nKen “Chigger” DuBois\, Kend0715@gmail.com\, (817) 879-9420 \nRide Captain #2:\nDan “Mad Russian” Mathys\, pgrdan1@gmail.com\, (817) 300-5542 \nRide Captain #3:\nJohn “Top” Kammerer\, john.kammerer@tx.rr.com\, (972) 877-3640 \nRide Captain #4:\nRick Crabb\, randjcrabb@juno.com\, (910) 330-9861 \nMission Summary:   INFORMATION ONLY \nPART 1:  Snowball Express Day Four Activities \n\nMission Date:   Dec 15\, 2013 – Sunday\nStaging Time:12:00\nBriefing Time:12:15\nIn Position Time Or KSU:12:30 \nDetails Of Part 1:\nAll activities scheduled for the Snowball Express Families are currently in\nand around the Hyatt Regency Hotel. No convoys are planned. The Patriot\nGuard Riders that have been assigned to and/or guests of the hotel and have\nthe proper Security Clearance will provide the necessary support needed. \nAll other riders are encouraged to look at the Mission Itinerary for Monday\,\nDecember 16th. Assistance will be needed with the loading of buses at the\nHyatt Regency Hotel and the off-loading of the buses at DFW International\nAirport\, Terminal C. If you are going to the hotel to help with the loading\nof buses\, and have a reflective vest\, please wear it. \nRespectfully Submitted By:\nKen “Chigger” DuBois\nDeputy State Captain
URL:https://www.patriotguard.org/mission/snowball-express-viii-2/
CATEGORIES:Archive
END:VEVENT
END:VCALENDAR