BEGIN:VCALENDAR
VERSION:2.0
PRODID:-//Patriot Guard Riders - ECPv5.6.0//NONSGML v1.0//EN
CALSCALE:GREGORIAN
METHOD:PUBLISH
X-WR-CALNAME:Patriot Guard Riders
X-ORIGINAL-URL:https://www.patriotguard.org
X-WR-CALDESC:Events for Patriot Guard Riders
BEGIN:VTIMEZONE
TZID:America/New_York
BEGIN:DAYLIGHT
TZOFFSETFROM:-0500
TZOFFSETTO:-0400
TZNAME:EDT
DTSTART:20160313T070000
END:DAYLIGHT
BEGIN:STANDARD
TZOFFSETFROM:-0400
TZOFFSETTO:-0500
TZNAME:EST
DTSTART:20161106T060000
END:STANDARD
END:VTIMEZONE
BEGIN:VEVENT
DTSTART;TZID=America/New_York:20160809T090000
DTEND;TZID=America/New_York:20160809T110000
DTSTAMP:20210512T044646
CREATED:20160809T130000Z
LAST-MODIFIED:20191201T143738Z
UID:410058-1470733200-1470740400@www.patriotguard.org
SUMMARY:SMSgt Vincent J. Warsheski\, 85\, USAF(RET)
DESCRIPTION:SMSgt. Vincent J. Warsheski\, 85\nUnited States Air Force\nPensacola\, Florida\nTuesday\, 9 Aug\, 2016\nKorea/Vietnam Veteran\n\n\nThe family of SMSgt. Vincent J. Warsheski has invited the Patriot Guard to escort him to Barrancas National Cemetery and stand a flag line for final Honors. \nSMSgt. Warsheski served over 22 years in the United States Air Force.  His decorations include the National Defense Service Medal\, Vietnam Service Medal\, Republic of Vietnam Campaign Medal\, Meritorious Service Medal\, United Nations Service Medal\, Korean Service Medal\, Air Force Commendation Medal\, and several other individual and unit awards.  He was an active member of the Knights of Columbus. \nAll arrangements are in the care of McLaughlin Twin Cities Funeral Home\, Niceville\, Fl.  The PGR will stage at Hardee’s\, 805 N Navy Blvd\, Pensacola\, FL\, and will meet SMSgt Warsheski\, family and friends at the main gate NAS Pensacola\, and escort them to Barrancas National Cemetery for military honors. \nNote: DOD regulations REQUIRE long sleeves\, long pants\, full fingered gloves\, leather shoes/boots\, DOT approved helmets\, and eye protection for all motorcycle operators and passengers while riding on all US Military Installations. \nNote: For safety reasons\, all riders will attend the safety briefing. \nItinerary: \n1215 – Stage at Hardee’s\, 805 N. Navy Blvd\, Pensacola Fl.\n1300 – Safety briefing\n1315 – KSU\n1330 – Meet Funeral Party at NAS Pensacola Main Gate\n1400 – Honors at Barrancas \nRC:  Ray Doyle\n[URL=”tel:850-902-0123″]850-902-0123[/URL]\nray.doyle@cox.net
URL:https://www.patriotguard.org/mission/smsgt-vincent-j-warsheski-85-usafret/
CATEGORIES:Archive
END:VEVENT
END:VCALENDAR