BEGIN:VCALENDAR
VERSION:2.0
PRODID:-//Patriot Guard Riders - ECPv5.6.0//NONSGML v1.0//EN
CALSCALE:GREGORIAN
METHOD:PUBLISH
X-WR-CALNAME:Patriot Guard Riders
X-ORIGINAL-URL:https://www.patriotguard.org
X-WR-CALDESC:Events for Patriot Guard Riders
BEGIN:VTIMEZONE
TZID:America/New_York
BEGIN:DAYLIGHT
TZOFFSETFROM:-0500
TZOFFSETTO:-0400
TZNAME:EDT
DTSTART:20160313T070000
END:DAYLIGHT
BEGIN:STANDARD
TZOFFSETFROM:-0400
TZOFFSETTO:-0500
TZNAME:EST
DTSTART:20161106T060000
END:STANDARD
END:VTIMEZONE
BEGIN:VEVENT
DTSTART;TZID=America/New_York:20160701T090000
DTEND;TZID=America/New_York:20160701T110000
DTSTAMP:20210512T162720
CREATED:20160701T130000Z
LAST-MODIFIED:20191201T144744Z
UID:410987-1467363600-1467370800@www.patriotguard.org
SUMMARY:SMSgt Richard Eugene Donely\, 77\, USAF(RET)
DESCRIPTION:Senior Master Sergeant Richard Eugene Donely\, 77\, US Air Force\nPensacola\, FL\nFriday\, July 1\, 2016\nVIETNAM VETERAN\n\n\n\nThe Patriot Guard has been requested to stand in honor of SMSgt. Richard Eugene Donely.   SMSgt. Donely served thirty years in the US Air Force. During his service he earned Meritorious Service Medal with one Bronze Oak Leaf Cluster\, AF Commendation Medal with one Bronze Oak Leaf Cluster\, Vietnam Service Medal with two Bronze Service Star among many others. Interment will be at Barrancas National Cemetery. \nWe will be staging at Hardees\, 805 N. Navy Blvd.\, Pensacola FL at 0800. \nNaval Air Station requires that we wear long sleeve shirts\, long trousers\, full fingered gloves\, DOT approved helmets\, footwear covering the ankles and appropriate eye protection.  This attire will be required while riding aboard the base. \nItinerary:\n0800 – Staging – Hardees\, 805 N. Navy Blvd.\, Pensacola FL\n0845 – Briefing\n0900 – KSU – (No LEO escort)\n0925 – Flag line at Barrancas National Cemetery – Site B\n0935  – Service/Interment Barrancas National Cemetery – Site B \nNote:  For safety reasons all riders will attend the safety briefing. \nRide Captain Tommy Harris\n[URL=”tel:850-485-9600″]251-504-4449[/URL]\nairborne@gulftel.com
URL:https://www.patriotguard.org/mission/smsgt-richard-eugene-donely-77-usafret/
CATEGORIES:Archive
END:VEVENT
END:VCALENDAR