BEGIN:VCALENDAR
VERSION:2.0
PRODID:-//Patriot Guard Riders - ECPv5.3.2.1//NONSGML v1.0//EN
CALSCALE:GREGORIAN
METHOD:PUBLISH
X-WR-CALNAME:Patriot Guard Riders
X-ORIGINAL-URL:https://www.patriotguard.org
X-WR-CALDESC:Events for Patriot Guard Riders
BEGIN:VTIMEZONE
TZID:America/New_York
BEGIN:DAYLIGHT
TZOFFSETFROM:-0500
TZOFFSETTO:-0400
TZNAME:EDT
DTSTART:20190310T070000
END:DAYLIGHT
BEGIN:STANDARD
TZOFFSETFROM:-0400
TZOFFSETTO:-0500
TZNAME:EST
DTSTART:20191103T060000
END:STANDARD
END:VTIMEZONE
BEGIN:VEVENT
DTSTART;VALUE=DATE:20190530
DTEND;VALUE=DATE:20190601
DTSTAMP:20210403T020235
CREATED:20190529T130636Z
LAST-MODIFIED:20190810T063415Z
UID:162726-1559174400-1559347199@www.patriotguard.org
SUMMARY:Sidney E. Stephens
DESCRIPTION:Honor Mission\nSidney E. Stephens\, Retired\nUSA\nLeavenworth\, Kansas – 05-30-19\n\n\n\nABOUT THE MISSION: \nSidney E. Stephens served in the United States Army for twenty years\, ten months and seventeen days. During his time in service\, he was awarded the National Defense Service Medal; the Armed Forces Expeditionary Medal; the Army Commendation Medal\, w/1OLC and the Good Conduct Medal.\n\n\nPRIMARY STAGING DETAILS: 05-30-19 \nStaging Time: 5:30 pm  \nCalvary Baptist Church\n4451 10th Avenue\nLeavenworth\, Kansas 66048\n\n\nRide Captain: \nRon “Grumpy” Wurtele\nrwurtele@kc.rr.com\n(913) 683-4652\n\n\nSpecial Instructions: \nRiders brief at 5:30 P.M. and stand flag line during visitation from 6:00 P.M. until 7:00 P.M.\n\n\nFlags & Water:\nFlags will be provided\nLarge Bike Flags will NOT be needed.\nWater WILL NOT be provided\, please bring your own.\n\nSTAGING #2 DETAILS: 05-31-19 \nStaging Time: 10:30  \nCalvary Baptist Church\n4451 10th Avenue\nLeavenworth\, Kansas 66048\n\n\nRide Captain: \nRon “Grumpy” Wurtele\nrwurtele@kc.rr.com\n(913) 683-4652\n\n\nSpecial Instructions: \nRiders brief at 10:30 A.M. and flag line during funeral service that begins at 11:00 A.M. Be prepared to depart the Church at approximately 12:10 P.M. to proceed to Leavenworth National Cemetery for 12:30 P.M service at the shelter.\n\n\nFlags & Water:\nFlags will be provided\nIf you have large bike flags\, please bring them.\nWater WILL NOT be provided\, please bring your own.\n\nSubmitted By: Ronald Wurtele \nPosition: Kansas Ride Captain \n\nNote: You do not have to own/ride a motorcycle or be a veteran to join\, and membership is Free. The only requirement is RESPECT! To subscribe to receive mission notices\, log into the National Site and click on the Members tab at the top. Select the Subscribe to PGR Missions option.\n Print This Page
URL:https://www.patriotguard.org/mission/sidney-e-stephens/
CATEGORIES:Honor Mission
END:VEVENT
END:VCALENDAR