BEGIN:VCALENDAR
VERSION:2.0
PRODID:-//Patriot Guard Riders - ECPv5.3.2.1//NONSGML v1.0//EN
CALSCALE:GREGORIAN
METHOD:PUBLISH
X-WR-CALNAME:Patriot Guard Riders
X-ORIGINAL-URL:https://www.patriotguard.org
X-WR-CALDESC:Events for Patriot Guard Riders
BEGIN:VTIMEZONE
TZID:America/New_York
BEGIN:DAYLIGHT
TZOFFSETFROM:-0500
TZOFFSETTO:-0400
TZNAME:EDT
DTSTART:20180311T070000
END:DAYLIGHT
BEGIN:STANDARD
TZOFFSETFROM:-0400
TZOFFSETTO:-0500
TZNAME:EST
DTSTART:20181104T060000
END:STANDARD
END:VTIMEZONE
BEGIN:VEVENT
DTSTART;TZID=America/New_York:20180423T100000
DTEND;TZID=America/New_York:20180423T120000
DTSTAMP:20210405T211545
CREATED:20180423T140000Z
LAST-MODIFIED:20200727T034149Z
UID:342557-1524477600-1524484800@www.patriotguard.org
SUMMARY:SHORT NOTICE - Stephen M. Frankson\, Veteran\, USAF
DESCRIPTION:Honor Mission\nStephen M. Frankson\, Veteran\nUSAF\nRussell\, Pennsylvania – 23 Apr 2018\n\n\nABOUT THE MISSION: \n\nThe Patriot Guard Riders have been requested to stand in honor of the US Air Force service of Stephen M. Frankson of Jamestown\, who passed away on April 19\, 2018. Mr. Frankson served almost 4 years active duty from 1970-1974\, including 19 months overseas. His Air Force Specialty Code was 70250-Administration Specialist\, and he was honorably discharged with the rank of Sergeant (E-4.) SGT Frankson was awarded the National Defense Service Medal. Mr. Frankson was a member of the Herman Kent Post 777 American Legion and AMVETS Post 1996. \nObituary: http://lindfuneralhome.com/tribute/details/6551/Stephen-Frankson/obituary.html#tribute-start \n\nPRIMARY STAGING DETAILS: 23 Apr 2018\nPrimary Staging Time: 10:00 A.M. \nWiltsie Community Church\n2981 Swede Hill Road\nRussell\, Pennsylvania – 16345\nhttp://mapq.st/2HGkHPh\nRide Captain: \nBob Caldwell\nracaldwell5@yahoo.com\nSpecial Instructions: \n\nEven though this funeral is a few miles into Pennsylvania\, it originated in Jamestown\, NY. PAPGR may have members participating. \nFlag Line for arrival of family and friends. \nFuneral Service at 11:00 AM.\nPlease arrive on time with a clean 3×5 American Flag or US Air Force flag and dress for the weather. \nPlease consider helping to Honor the US Air Force Service of Mr. Frankson\, and to support his loving family. \n\nFlags & Water: \nFlags Will NOT Be Provided\, Please Bring Your Own.\nLarge Bike Flags will NOT be needed.\nWater WILL NOT be provided\, please bring your own.\n  \n\nSubmitted By: Ray Sestak\nPosition: Assistant State Captain \n\nNote:\nYou do not have to own/ride a motorcycle or be a Veteran to join and membership is Free. The only requirement is RESPECT! To join\, simply go to www.PatriotGuard.org and click on Register. Membership is Free. \nTo subscribe to receive mission notices\, log into the National Site and click on the Mission Tab at the top. Select the Subscribe to Missions option.
URL:https://www.patriotguard.org/mission/short-notice-stephen-m-frankson-veteran-usaf/
CATEGORIES:Honor Mission
END:VEVENT
END:VCALENDAR