BEGIN:VCALENDAR
VERSION:2.0
PRODID:-//Patriot Guard Riders - ECPv5.6.0//NONSGML v1.0//EN
CALSCALE:GREGORIAN
METHOD:PUBLISH
X-WR-CALNAME:Patriot Guard Riders
X-ORIGINAL-URL:https://www.patriotguard.org
X-WR-CALDESC:Events for Patriot Guard Riders
BEGIN:VTIMEZONE
TZID:America/New_York
BEGIN:DAYLIGHT
TZOFFSETFROM:-0500
TZOFFSETTO:-0400
TZNAME:EDT
DTSTART:20060402T070000
END:DAYLIGHT
BEGIN:STANDARD
TZOFFSETFROM:-0400
TZOFFSETTO:-0500
TZNAME:EST
DTSTART:20061029T060000
END:STANDARD
END:VTIMEZONE
BEGIN:VEVENT
DTSTART;TZID=America/New_York:20061015T090000
DTEND;TZID=America/New_York:20061015T110000
DTSTAMP:20210513T222030
CREATED:20061015T130000Z
LAST-MODIFIED:20191201T030939Z
UID:324140-1160902800-1160910000@www.patriotguard.org
SUMMARY:SHORT NOTICE - Capt. Robert M. Secher\, 33
DESCRIPTION:UPDATE POSTED 15 Oct 06 @ 2342 hrs cst\n\nBless God. This has now became a confirmed mission. I challenge all PGR members who are able to attend to be there for this family. I have spoken to a family who wishes nothing more then to see our Fallen Hero the Honor and Respect during their time of grief. \nPlease stay updated today with any and all Updates\, as there will be coordination going on throughout today! \n++++++++++++++++++++++++++++++++++++++++++++++++++++++++++++\nNEWS RELEASES from the United States Department of Defense \nNo. 1024-06 IMMEDIATE RELEASE\nOctober 12\, 2006\nMedia Contact: (703) 697-5131/697-5132\nPublic/Industry(703) 428-0711 \nDoD Identifies Marine Casualties \nThe Department of Defense announced today the death of three Marines who were supporting Operation Iraqi Freedom. \n Lance Cpl. Derek W. Jones\, 21\, of Salem\, Ore.\, died Oct. 8 from wounds received while conducting combat operations against enemy forces in Al Anbar province\, Iraq. He was assigned to 2nd Battalion\, 3rd Marine Regiment\, 3rd Marine Division\, III Marine Expeditionary Force\, Kaneohe Bay\, Hawaii. \nLance Cpl. Jeremy S. Sandvick Monroe\, 20\, of Chinook\, Mont.\, died Oct. 8 from wounds received while conducting combat operations against enemy forces in Al Anbar province\, Iraq. He was assigned to 2nd Battalion\, 3rd Marine Regiment\, 3rd Marine Division\, III Marine Expeditionary Force\, Kaneohe Bay\, Hawaii.\n\n Capt. Robert M. Secher\, 33\, of Germantown\, Tenn.\, died Oct. 8 from wounds received while conducting combat operations against enemy forces in Al Anbar province\, Iraq. He was assigned to 3rd Battalion\, 12th Marine Regiment\, 3rd Marine Division\, III Marine Expeditionary Force\, Okinawa\, Japan. \nMedia with questions about Jones and Sandvick Monroe can contact the Hawaii public affairs office at (808) 257-8870. \nMedia with questions about Secher can contact the Okinawa public affairs office at 011-81-611-745-0790 or 81-611-745-7423.
URL:https://www.patriotguard.org/mission/short-notice-capt-robert-m-secher-33/
END:VEVENT
END:VCALENDAR