BEGIN:VCALENDAR
VERSION:2.0
PRODID:-//Patriot Guard Riders - ECPv5.6.0//NONSGML v1.0//EN
CALSCALE:GREGORIAN
METHOD:PUBLISH
X-WR-CALNAME:Patriot Guard Riders
X-ORIGINAL-URL:https://www.patriotguard.org
X-WR-CALDESC:Events for Patriot Guard Riders
BEGIN:VTIMEZONE
TZID:America/New_York
BEGIN:DAYLIGHT
TZOFFSETFROM:-0500
TZOFFSETTO:-0400
TZNAME:EDT
DTSTART:20160313T070000
END:DAYLIGHT
BEGIN:STANDARD
TZOFFSETFROM:-0400
TZOFFSETTO:-0500
TZNAME:EST
DTSTART:20161106T060000
END:STANDARD
END:VTIMEZONE
BEGIN:VEVENT
DTSTART;TZID=America/New_York:20160825T090000
DTEND;TZID=America/New_York:20160825T110000
DTSTAMP:20210511T185438
CREATED:20160825T130000Z
LAST-MODIFIED:20191201T143346Z
UID:409696-1472115600-1472122800@www.patriotguard.org
SUMMARY:Sheldon T. Mead\, Jr\, USN
DESCRIPTION:PO3 Sheldon T. Mead\, Jr\nUS Navy Vietnam Veteran\nTulsa\, OK\n25 Aug 16 \n\n\n\nThe family of US Navy Vietnam Veteran PO3 Sheldon Thompson Mead\, Jr. has asked the Patriot Guard Riders to stand a flag line at his funeral service scheduled for 1300 Hours Thursday\, 25 August 2016. \nRose Hill Funeral Home Chapel\n4161 E Admiral Place\nTulsa\, OK\nInterment will immediately follow at Rose Hill Memorial Park. \nDate:  Thursday\, 25 August 2016 at 1300 Hours \nStaging:  1145 Hours\nQuik Trip\n4903 E Admiral Place\n(corner of Yale Ave & Admiral Pl)\nTulsa\, OK \nMandatory Briefing:  1200 Hours\nYou MUST attend the briefing \nKSU:  1215 Hours \nFlag Line:  1230 Hours \nWeather:  Temperature mid 90s and partly cloudy during the mission.  Hydrate !!!!! \nRCIC:\nMorris “Pike Pass” Noftsger\nSCR\nmorrisnoftsger@yahoo.com\n918.261.1197
URL:https://www.patriotguard.org/mission/sheldon-t-mead-jr-usn/
END:VEVENT
END:VCALENDAR