BEGIN:VCALENDAR
VERSION:2.0
PRODID:-//Patriot Guard Riders - ECPv5.6.0//NONSGML v1.0//EN
CALSCALE:GREGORIAN
METHOD:PUBLISH
X-WR-CALNAME:Patriot Guard Riders
X-ORIGINAL-URL:https://www.patriotguard.org
X-WR-CALDESC:Events for Patriot Guard Riders
BEGIN:VTIMEZONE
TZID:America/New_York
BEGIN:DAYLIGHT
TZOFFSETFROM:-0500
TZOFFSETTO:-0400
TZNAME:EDT
DTSTART:20160313T070000
END:DAYLIGHT
BEGIN:STANDARD
TZOFFSETFROM:-0400
TZOFFSETTO:-0500
TZNAME:EST
DTSTART:20161106T060000
END:STANDARD
END:VTIMEZONE
BEGIN:VEVENT
DTSTART;TZID=America/New_York:20160708T090000
DTEND;TZID=America/New_York:20160708T110000
DTSTAMP:20210512T233528
CREATED:20160708T130000Z
LAST-MODIFIED:20191201T144527Z
UID:410777-1467968400-1467975600@www.patriotguard.org
SUMMARY:Sheldon G. Hurst\, Sr.\, USN\, WWII / Wilkes-Barre
DESCRIPTION:Sheldon G. Hurst\, Sr.\nNavy World War 2 Veteran\n8 JUL 2016\nWilkes-Barre / Dallas\, PA\n\n\n\nThe family of Navy World War 2 Veteran Sheldon George Hurst\, Sr. has requested the Patriot Guard Riders stand to honor his service to our nation at his funeral and interment\, Friday\, July 8th.  Sheldon served as a gunnery in the European Theater during World War 2.  Sheldon’s daughter Mimi is Georgia PGR\, and has asked us to help honor her father.  Sheldon Hurst\, Sr. is a patriot who served our country with honor and now it’s our turn to stand and honor him. \nFUNERAL:  8 JUL 2016   Service begins @ 1000 HRS \nNat & Gawlas Funeral Home\n89 Park Avenue\nWilkes-Barre\, PA  18702 \nMap: https://goo.gl/maps/cDMuBuQvtum \nStaging:  0915 HRS\nPlease bring 3 x 5 flags. \nESCORT & INTERMENT:  Following service \nChapel Lawn Memorial Park\n4115 Memorial Highway\nDallas\, PA  18612 \nMap:  https://goo.gl/maps/S9ZuuRRiyJt \n[FONT=&quot]RCIC[/FONT][FONT=&quot]: Les Sharp[/FONT]\n[FONT=&quot]Email: lessharp52@aol.com[/FONT]\n[FONT=&quot]Phone:  570-269-8130[/FONT]
URL:https://www.patriotguard.org/mission/sheldon-g-hurst-sr-usn-wwii-wilkes-barre/
CATEGORIES:Archive
END:VEVENT
END:VCALENDAR