BEGIN:VCALENDAR
VERSION:2.0
PRODID:-//Patriot Guard Riders - ECPv5.6.0//NONSGML v1.0//EN
CALSCALE:GREGORIAN
METHOD:PUBLISH
X-WR-CALNAME:Patriot Guard Riders
X-ORIGINAL-URL:https://www.patriotguard.org
X-WR-CALDESC:Events for Patriot Guard Riders
BEGIN:VTIMEZONE
TZID:America/New_York
BEGIN:DAYLIGHT
TZOFFSETFROM:-0500
TZOFFSETTO:-0400
TZNAME:EDT
DTSTART:20160313T070000
END:DAYLIGHT
BEGIN:STANDARD
TZOFFSETFROM:-0400
TZOFFSETTO:-0500
TZNAME:EST
DTSTART:20161106T060000
END:STANDARD
END:VTIMEZONE
BEGIN:VEVENT
DTSTART;TZID=America/New_York:20160614T090000
DTEND;TZID=America/New_York:20160614T110000
DTSTAMP:20210513T153743
CREATED:20160614T130000Z
LAST-MODIFIED:20191201T145140Z
UID:411343-1465894800-1465902000@www.patriotguard.org
SUMMARY:Shawn David Bean
DESCRIPTION:The family of Fireman Shawn David Bean has asked the PGR to stand a Flagline at his services to be held on 14 June 16 at Enid\, OK.  Services will be held at First Baptist Church\, 401 W. Maine St.\,  Enid\,  OK at 1000.  Interment will follow at the Memorial Park\, 6405 Memorial Dr.\, Enid\, Ok 73701 \nMr. Dean\, was the Father of a Fallen Hero we escorted to Enid this past September.  Highway 81 was lined with Fire/LEO & citizens pretty much the whole way to Enid from Will Rogers Airport.  The family was truly honored by the Respect given to their fallen hero. \nDate:    14 June 2016 \nStaging:    0830\n                  First Baptist Church\n401 W. Maine St.\nEnid\, OK 73701\n\nMandatory Briefing:     0900\nRiders must attend Briefing if riding in Escort \nFlag line:     After Briefing.  \nWeather:  High of 98 Please HYDRATE!!!! \nRCIC\nJay (Jaybo) Clark\n405-464-4994\njaybo_pgr@yahoo.com \nARC\nChris Harrington\nGhostdog49@gmail.com\n940-577-3555
URL:https://www.patriotguard.org/mission/shawn-david-bean/
CATEGORIES:Archive
END:VEVENT
END:VCALENDAR