BEGIN:VCALENDAR
VERSION:2.0
PRODID:-//Patriot Guard Riders - ECPv5.6.0//NONSGML v1.0//EN
CALSCALE:GREGORIAN
METHOD:PUBLISH
X-WR-CALNAME:Patriot Guard Riders
X-ORIGINAL-URL:https://www.patriotguard.org
X-WR-CALDESC:Events for Patriot Guard Riders
BEGIN:VTIMEZONE
TZID:America/New_York
BEGIN:DAYLIGHT
TZOFFSETFROM:-0500
TZOFFSETTO:-0400
TZNAME:EDT
DTSTART:20080309T070000
END:DAYLIGHT
BEGIN:STANDARD
TZOFFSETFROM:-0400
TZOFFSETTO:-0500
TZNAME:EST
DTSTART:20081102T060000
END:STANDARD
END:VTIMEZONE
BEGIN:VEVENT
DTSTART;TZID=America/New_York:20080614T090000
DTEND;TZID=America/New_York:20080614T110000
DTSTAMP:20210513T213614
CREATED:20080614T130000Z
LAST-MODIFIED:20191201T113904Z
UID:381407-1213434000-1213441200@www.patriotguard.org
SUMMARY:SGT Shane P. Duffy\, 22
DESCRIPTION:Updated 07 Jun 08 at 1932 EDT by Cagerbob\nUpdated 12 Jun 08 at 0700 PST by Wags \nThe following is the final itinerary for the services for SGT Duffy\, TAUNTON\, MA on Saturday\, June 14th. \nSTAGING:  Mill River Professional Center \nDunkin Donuts \nTremont & Washington Street (Route 140) \nTaunton\, MA \nMAP LINK:  http://tinyurl.com/5kbtjw \nSTAGING TIME:  0900\, Saturday June 14th \nBRIEFING:  0930 \nKSU:  0945 \nRIDE CAPTAIN:  Mitch Plonka   mitch223@comcast.com \n \n>>>>>>PLEASE BRING YOUR FLAGS
URL:https://www.patriotguard.org/mission/sgt-shane-p-duffy-22/
LOCATION:Milton D Willis
CATEGORIES:Archive
END:VEVENT
END:VCALENDAR