BEGIN:VCALENDAR
VERSION:2.0
PRODID:-//Patriot Guard Riders - ECPv5.6.0//NONSGML v1.0//EN
CALSCALE:GREGORIAN
METHOD:PUBLISH
X-WR-CALNAME:Patriot Guard Riders
X-ORIGINAL-URL:https://www.patriotguard.org
X-WR-CALDESC:Events for Patriot Guard Riders
BEGIN:VTIMEZONE
TZID:America/New_York
BEGIN:DAYLIGHT
TZOFFSETFROM:-0500
TZOFFSETTO:-0400
TZNAME:EDT
DTSTART:20160313T070000
END:DAYLIGHT
BEGIN:STANDARD
TZOFFSETFROM:-0400
TZOFFSETTO:-0500
TZNAME:EST
DTSTART:20161106T060000
END:STANDARD
END:VTIMEZONE
BEGIN:VEVENT
DTSTART;TZID=America/New_York:20160728T090000
DTEND;TZID=America/New_York:20160728T110000
DTSTAMP:20210512T155321
CREATED:20160728T130000Z
LAST-MODIFIED:20191201T144004Z
UID:410280-1469696400-1469703600@www.patriotguard.org
SUMMARY:Sgt Ryan Lee LeJeune\, 27\, USMC(AD) / Houston
DESCRIPTION:MISSION BLAST – FINAL ITINERARY \nPatriot’s Name:  Sergeant RYAN LEE LeJEUNE\nMission Name:  Airport Arrival/Escort to Funeral Home\,  Orange\, Texas\nBranch:  United States Marine Corps \nDate of Mission:  Thursday 28 July 2016\nStaging Time:  1500 hrs\nBriefing Time:  1530 hrs\nIn position time:  1545 hrs \nStaging Address:  Bush Airport\, Cell Phone Lot\,  5101 Will Clayton Pkwy (at Wright Rd) West of Lee Road\,  Houston\,  Texas  77032 \nMission details:  Airport Arrival at BUSH Airport with Plane Side Honors;  Escort to Funeral Home in Orange\, Texas.  Asking for all (motorcycles and cages) to join us.  Golden Triangle PGR will stage with us at Bush Cell Lot. \n**Note** For those of us going to Orange…Will be dark by the time we get back to Houston \nObituary:  SERGEANT RYAN LEE LeJEUNE\, 27 began his career with the United States Marine Corps eight years ago.  He was stationed at Marine Corps Air Station Cherrypoint in North Carolina. \nHis love of the Corps and country was only overshadowed by his passion for music and devotion to his three daughters.  Whether in Spain\,  Greece  or Africa\, his fellow Marines couldn’t escape hearing him play his guitar\, sing newly written lyrics or beam about his girls. \nSergeant LeJeune is survived by his wife\, three daughters\, his parents\, one sister and numerous other family members and friends. \nRide Captain:  Ben Jones\nRC Phone number:  832-257-5775 – Email:  chukkllzz@yahoo.com \nRC:  John Goff\nRC Phone number:  281-468-5488 – Email:  jgoffsr@aol.com \nSupport Vehicle: Ken Strube \nWeather Forecast:  HOT! Mid 90s temperatures\, so please plan & dress accordingly\, and hydrate\, hydrate\, Hydrate!
URL:https://www.patriotguard.org/mission/sgt-ryan-lee-lejeune-27-usmcad-houston/
CATEGORIES:Archive
END:VEVENT
END:VCALENDAR