BEGIN:VCALENDAR
VERSION:2.0
PRODID:-//Patriot Guard Riders - ECPv5.3.2.1//NONSGML v1.0//EN
CALSCALE:GREGORIAN
METHOD:PUBLISH
X-WR-CALNAME:Patriot Guard Riders
X-ORIGINAL-URL:https://www.patriotguard.org
X-WR-CALDESC:Events for Patriot Guard Riders
BEGIN:VTIMEZONE
TZID:America/New_York
BEGIN:DAYLIGHT
TZOFFSETFROM:-0500
TZOFFSETTO:-0400
TZNAME:EDT
DTSTART:20190310T070000
END:DAYLIGHT
BEGIN:STANDARD
TZOFFSETFROM:-0400
TZOFFSETTO:-0500
TZNAME:EST
DTSTART:20191103T060000
END:STANDARD
END:VTIMEZONE
BEGIN:VEVENT
DTSTART;VALUE=DATE:20190627
DTEND;VALUE=DATE:20190628
DTSTAMP:20210405T014938
CREATED:20190625T215423Z
LAST-MODIFIED:20190625T215423Z
UID:165778-1561593600-1561679999@www.patriotguard.org
SUMMARY:Sgt. Nichol Fuentes
DESCRIPTION:HOTH Mission\nSgt. Nichol Fuentes\, Retired\nUSMC\nCumby\, Texas – 06-27-19\n\n\n \n\nABOUT THE MISSION: \nThe East Texas Patriot Guard has been invited to help celebrate United States Marine Corps Sergeant Nichol Fuentes and her family being awarded a new home in partnership with USA Homeownership Foundation (aka VAREP) and Bank of America. We have been asked to provide a short escort for the family to their new home (which they have not seen) in Cumby\, TX. and some of us stand a flag line at their driveway. I know this will be a very moving experience as it is a once in a lifetime thing for this family that both have given and are giving their service to this country. This event will be attended by many folks including media and some others. You will be given details at the briefing.\n\n\nPRIMARY STAGING DETAILS: 06-27-19 \nStaging Time: 9:45 am\n \nFirst Presbyterian Church\n201 Depot\, ST.\nCumby\, Texas 75433\nMap\n\n\nRide Captain: \nMike Moses\n940-368-3132\nmmoses@wildblue.net\n\n\nSpecial Instructions: \nRiders Meeting 10:30 AM\nPlease remain flexible as to the requirements of the event. (SEMPER GUMBY)\n\nFlags & Water:\nFlags will be provided\nIf you have large bike flags\, please bring them.\nWater will be provided.\n\n\n\n\n\n\n\nSubmitted By: Michael Eubank \nPosition: Texas Deputy State Captain \n\nNote: You do not have to own/ride a motorcycle or be a veteran to join\, and membership is Free. The only requirement is RESPECT! To subscribe to receive mission notices\, log into the National Site and click on the Members tab at the top. Select the Subscribe to PGR Missions option.\n Print This Page
URL:https://www.patriotguard.org/mission/sgt-nichol-fuentes/
CATEGORIES:HOTH Mission
END:VEVENT
END:VCALENDAR