BEGIN:VCALENDAR
VERSION:2.0
PRODID:-//Patriot Guard Riders - ECPv5.3.2.1//NONSGML v1.0//EN
CALSCALE:GREGORIAN
METHOD:PUBLISH
X-WR-CALNAME:Patriot Guard Riders
X-ORIGINAL-URL:https://www.patriotguard.org
X-WR-CALDESC:Events for Patriot Guard Riders
BEGIN:VTIMEZONE
TZID:America/New_York
BEGIN:DAYLIGHT
TZOFFSETFROM:-0500
TZOFFSETTO:-0400
TZNAME:EDT
DTSTART:20100314T070000
END:DAYLIGHT
BEGIN:STANDARD
TZOFFSETFROM:-0400
TZOFFSETTO:-0500
TZNAME:EST
DTSTART:20101107T060000
END:STANDARD
END:VTIMEZONE
BEGIN:VEVENT
DTSTART;TZID=America/New_York:20100603T090000
DTEND;TZID=America/New_York:20100603T110000
DTSTAMP:20210404T190235
CREATED:20100603T130000Z
LAST-MODIFIED:20191201T105705Z
UID:371041-1275555600-1275562800@www.patriotguard.org
SUMMARY:Sgt Helmert H. De La Cruz\, 24\, USMC
DESCRIPTION:Helmert H. DE LA CRUZ\nAGE: 24 KEASBEY\nHelmert H. De La Cruz\, 24\, of Keasbey\, died Sunday\, May 30\, 2010\, at CentraState Medical Center in Freehold.\nHe was an E 5 Sergeant in the Marine Corps\, stationed in Amityville\, Long Island\, after having served one year in Afghanistan. \nWe would like a flag line for the visitation which will be held on Wednesday\, June 2 from 2 to 9 p.m.  Please report directly to: Flynn & Son Funeral Home\n23 Ford Ave\nFords\, NJ .\nI do not expect anyone to stand the entire time\, so please come whenever you can and quietly join (or leave) the flag line quietly. \nFuneral services will be held on Thursday\, June 3\, 2010\, at 9:15 a.m. from Flynn and Son Funeral Home\n23 Ford Ave.\nFords\, NJ\n(please be at the funeral home by 9:00 am – we will be providing the escorts to the church and the cemetery)\nfollowed by a 10 a.m. funeral liturgy at Our Lady of Fatima RC Church in Perth Amboy . Burial will follow in Alpine Cemetery. For directions  www.flynnfuneral.com \nRide Captain\, Don Klein  908-334-7719
URL:https://www.patriotguard.org/mission/sgt-helmert-h-de-la-cruz-24-usmc/
CATEGORIES:Archive
END:VEVENT
END:VCALENDAR