BEGIN:VCALENDAR
VERSION:2.0
PRODID:-//Patriot Guard Riders - ECPv5.6.0//NONSGML v1.0//EN
CALSCALE:GREGORIAN
METHOD:PUBLISH
X-WR-CALNAME:Patriot Guard Riders
X-ORIGINAL-URL:https://www.patriotguard.org
X-WR-CALDESC:Events for Patriot Guard Riders
BEGIN:VTIMEZONE
TZID:America/New_York
BEGIN:DAYLIGHT
TZOFFSETFROM:-0500
TZOFFSETTO:-0400
TZNAME:EDT
DTSTART:20160313T070000
END:DAYLIGHT
BEGIN:STANDARD
TZOFFSETFROM:-0400
TZOFFSETTO:-0500
TZNAME:EST
DTSTART:20161106T060000
END:STANDARD
END:VTIMEZONE
BEGIN:VEVENT
DTSTART;TZID=America/New_York:20160727T090000
DTEND;TZID=America/New_York:20160727T110000
DTSTAMP:20210512T204652
CREATED:20160727T130000Z
LAST-MODIFIED:20191201T144047Z
UID:410344-1469610000-1469617200@www.patriotguard.org
SUMMARY:Sgt Chasen R. Upshaw\, 26\, USMC(AD) / San Bernardino
DESCRIPTION:The U.S. Marine Corps and the family of Sgt Chasen Robert Upshaw\, 26\, have  invited the PGR to accompany the Hero and his family and attend his service and  Military Honors\, it will be our honor to do so. \nSgt Chasen R. Upshaw served in the U.S. Marine Corps for 8 years. He was  assigned to a USMC training school in Quantico\, VA as a machine gun  instructor. \nHe was recently given an opportunity to leave a legacy and honor his Marine  brothers from the Vietnam War by being one of the eight Marines who will be  used in a statue to be added to the Marine Museum showing Marines in combat in  Operation Starlite in Vietnam. \nChasen loved riding his motorcycle\, something he enjoyed with his  father\, many other family members and friends.  Having the PGR there would  be very meaningful to him as it is to his family.  \nChasen is survived by his wife Jessica\, 3 children\, his father and  mother\, his extended family and friends. \n\nTime table for Wednesday\, 27 JUL 16: \n0945 – Stage at Wildwood Park\, 536 E. 40th St.\, San Bernardino\,  CA  https://goo.gl/maps/ec7by11dBiL2 \n1000 – Mission briefing \n1030 – Anticipate arrival of Hero for transfer \n1045 – Flag Line for dignified transfer of Hero to motorcycle carrier  trailer \n1100 – KSU to Riverside National Cemetery\, 22495 Van Buren Blvd.\,  Riverside\, CA 92518 (approx 25 miles)  https://goo.gl/maps/77UNE4m2tnT2 \n1200 – ETA at RNC (staging area #9\, #8 for PGR if you are joining at  cemetery) \n1245 – KSU to assigned shelter for Flag Line\, Service and Military  Honors \nR/C: Vince Hernandez\ncalldanek@yahoo.com\n951-236-3140 cell \nYou do not have  to be a Veteran or a motorcycle rider to attend this mission. Everyone is  welcome. We encourage those who do not ride to attend in your car.  If this will be your first mission go to the initial staging area and you will  be briefed there by the R/C (Ride Captain).  Dress for  motorcycle riding or dress casually if you are driving a cage (car).   Please feel free to attend any portion of this mission you can.  Please ride/drive  safely.
URL:https://www.patriotguard.org/mission/sgt-chasen-r-upshaw-26-usmcad-san-bernardino/
CATEGORIES:Archive
END:VEVENT
END:VCALENDAR