BEGIN:VCALENDAR
VERSION:2.0
PRODID:-//Patriot Guard Riders - ECPv5.6.0//NONSGML v1.0//EN
CALSCALE:GREGORIAN
METHOD:PUBLISH
X-WR-CALNAME:Patriot Guard Riders
X-ORIGINAL-URL:https://www.patriotguard.org
X-WR-CALDESC:Events for Patriot Guard Riders
BEGIN:VTIMEZONE
TZID:America/New_York
BEGIN:DAYLIGHT
TZOFFSETFROM:-0500
TZOFFSETTO:-0400
TZNAME:EDT
DTSTART:20160313T070000
END:DAYLIGHT
BEGIN:STANDARD
TZOFFSETFROM:-0400
TZOFFSETTO:-0500
TZNAME:EST
DTSTART:20161106T060000
END:STANDARD
END:VTIMEZONE
BEGIN:VEVENT
DTSTART;TZID=America/New_York:20160616T090000
DTEND;TZID=America/New_York:20160616T110000
DTSTAMP:20210513T142652
CREATED:20160616T130000Z
LAST-MODIFIED:20191201T145159Z
UID:411370-1466067600-1466074800@www.patriotguard.org
SUMMARY:SGT Carlo Robinson\, USA
DESCRIPTION:SGT Carlo Robinson\n\n\nDue to an error made by the US Amy at the original mission on 1/17/09 The US Army is participating in an attempt to properly honor SGT. Carlo Robinson with a ceremony including a welcome home ceremony at the airport\, flag presentation\, escort and memorial service. \nSGT Carlo Robinson honorably served his country in the US Army and tragically died on January 17\, 2009\, due to wounds sustained from a suicide bomber while serving in  Afghanistan. After SGT Robinson’s death\, the Army flew him and another deceased soldier back to each of their hometowns with Hope\, AR being the first stop.\n\nUpon the arrival of SGT Robinson’s body a grave error was made by the Army and the wrong casket was released from\nthe plane. The Army’s error went unnoticed until the casket reached the funeral home. \nUnfortunately\, the casket in which military honors were provided and the Robinson family gathered around and grieved was not that of SGT Robinson. After the Army realized the error at the funeral home\, they quietly returned back to the airport to exchange caskets. Sadly\, there were no plane side services rendered\, no heartfelt welcome home\, no one was present to properly honor and receive Carlo’s remains in the dignified way in which he earned and deserved. \nSince the death of SGT Robinson there had been several events which deprived the Robinson family from grieving the loss of their son. Shortly after SGT Robinson died\, his mother\, Ms. Jennifer Robinson received notice that parts of her son’s death benefits were being redirected inappropriately. Over the past 7 years\, Ms. Robinson has sought to find justice for her deceased son. On October 22\, 2015\, Ms. Robinson represented her deceased son during a two day civil trial and won. \nThrough the devastating loss of a son\, the inconceivable mistake made by the Army and the lengthy court case\, the Robinson family is now able to move forward to seek final closure. The last part in need of correction is a proper and\ndignified homecoming for SGT Robinson. \nWe would like to honor the life of SGT Robinson and honor his family for their many sacrifices to this country. We welcome you to help celebrate his life with us on June 16\, 2016\, starting at 10:00 am at the Hempstead Hall in Hope\, AR. \nBig Flag Bikes requested and a special request for six Prior Service Members riders with flags. Please contact RC prior prior to wed.06/15/2016 \nStaging:0745-0820 hrs Hempstead Hall\, Hope Ar. \nwww.google.com/maps/place/Hempstead+Hall/@33.640285\,-93.5971964\,17z/data=!3m1!4b1!4m5!3m4!1s0x863384bbbcd0e861:0x6ea396edce9ec2b4!8m2!3d33.6402806!4d-93.5950077 \nWeather: 93 with a 40% chance of thunderstorms. Hydrate thoroughly. \nRide Captain: Don Nix (papadon) 903 319 9130    donnix1@valornet.com
URL:https://www.patriotguard.org/mission/sgt-carlo-robinson-usa/
CATEGORIES:Archive
END:VEVENT
END:VCALENDAR