BEGIN:VCALENDAR
VERSION:2.0
PRODID:-//Patriot Guard Riders - ECPv5.6.0//NONSGML v1.0//EN
CALSCALE:GREGORIAN
METHOD:PUBLISH
X-WR-CALNAME:Patriot Guard Riders
X-ORIGINAL-URL:https://www.patriotguard.org
X-WR-CALDESC:Events for Patriot Guard Riders
BEGIN:VTIMEZONE
TZID:America/New_York
BEGIN:DAYLIGHT
TZOFFSETFROM:-0500
TZOFFSETTO:-0400
TZNAME:EDT
DTSTART:20160313T070000
END:DAYLIGHT
BEGIN:STANDARD
TZOFFSETFROM:-0400
TZOFFSETTO:-0500
TZNAME:EST
DTSTART:20161106T060000
END:STANDARD
END:VTIMEZONE
BEGIN:VEVENT
DTSTART;TZID=America/New_York:20160825T090000
DTEND;TZID=America/New_York:20160825T110000
DTSTAMP:20210512T040736
CREATED:20160825T130000Z
LAST-MODIFIED:20191201T143409Z
UID:409731-1472115600-1472122800@www.patriotguard.org
SUMMARY:SGM James Lasalle Hood\, USA(RET)\, Gulf Veteran
DESCRIPTION:SGM James Lasalle Hood\nUS Army Retired\nDesert Storm – Shield – Kuwait\nAlabama State Veterans Memorial Cemetery\nSpanish Fort\, Alabama\nThursday\, 25 August 2016\n\n\n\nFellow Riders\, \nIt is with heavy heart that I must inform you that Alabama and America has lost another true American hero.  The family of SGM James Lasalle Hood has requested the Patriot Guard to stand in honor of their loved one. \nMr. Hood was in the US Army and served during Operation Desert Storm and Desert Shield.  His Commendations and awards include the NDSM (2nd award)\, Bronze Star\, Army Commendation Medal (2nd award)\, Army Achievement Medal (2nd award)\, Global War on Terrorism Service Medal\, Global War on Terrorism Expeditionary Medal\, Meritorious Unit Commendation\, Army Reserve Components Achievement Medal (5th award)\, Southwest Asia Service Medal with 3 Bronze Service Stars\, Iraq Campaign Medal\, Good Conduct medal\, and an Honorable Discharge. \nWe will be honored to stand a silent flag line for Visitation and at the Committal Shelter. \nYou must attend the Briefing and Safety Briefing to Ride. \nVisitation:  9:30 – 11:00 a.m.\nWolf-Bayview Funeral Home\n27409 US Hwy 98\nDaphne\, AL \nFuneral Service:  11:00 a.m. \nCommittal Shelter:  12:30 p.m. at\nAlabama State Veterans Memorial Cemetery\n34904 State Highway 225\nSpanish Fort\, AL \nStaging: \nLocation:\nScenic Overlook at Spanish Fort (NW corner I-10 and Hwy 98) \nTime:  8:45 am \nBriefing:  9:00 am \nSafety Briefing:  9:05 am \nKSU:  9:15 am \nRCIC:\nEd “Juju” Lessard\, RC\n(251) 978-6215 \nFlags:\nLloyd Pursley\, DRC\n(251) 422-0696 \nHonor Guard:  YES:  Escort: YES \nSGM Hood stood many a hard day and night for us so that we might be safe and free.\nNow it’s our turn to stand for him.
URL:https://www.patriotguard.org/mission/sgm-james-lasalle-hood-usaret-gulf-veteran/
CATEGORIES:Archive
END:VEVENT
END:VCALENDAR