BEGIN:VCALENDAR
VERSION:2.0
PRODID:-//Patriot Guard Riders - ECPv5.6.0//NONSGML v1.0//EN
CALSCALE:GREGORIAN
METHOD:PUBLISH
X-WR-CALNAME:Patriot Guard Riders
X-ORIGINAL-URL:https://www.patriotguard.org
X-WR-CALDESC:Events for Patriot Guard Riders
BEGIN:VTIMEZONE
TZID:America/New_York
BEGIN:DAYLIGHT
TZOFFSETFROM:-0500
TZOFFSETTO:-0400
TZNAME:EDT
DTSTART:20160313T070000
END:DAYLIGHT
BEGIN:STANDARD
TZOFFSETFROM:-0400
TZOFFSETTO:-0500
TZNAME:EST
DTSTART:20161106T060000
END:STANDARD
END:VTIMEZONE
BEGIN:VEVENT
DTSTART;TZID=America/New_York:20160815T090000
DTEND;TZID=America/New_York:20160815T110000
DTSTAMP:20210511T204023
CREATED:20160815T130000Z
LAST-MODIFIED:20191201T143633Z
UID:409953-1471251600-1471258800@www.patriotguard.org
SUMMARY:SFC Wilbur T. Bryars\, 75\, USA (RET)\, Vietnam / Bay Minette
DESCRIPTION:15 August 2016\n\nMonday\nSFC Wilbur T. Bryars\nU. S. Army (RET) – Vietnam Veteran\nBay Minette\, AL\n\n\nThe family of SFC Wilbur T. Bryars has requested that the Patriot Guard stand in honor of their loved one.  Mr. Bryars passed away Wednesday\, August 10\, 2016\, at the age of 75.   \nSFC Bryars received Good Conduct Medal (5 awards)\, VSM W/ 1 Silver Service Star and 1 Bronze Service Star\, Bronze Star Medal W/ 2 Bronze Oak Leaf Clusters\, Republic of Vietnam Campaign Medal\, Republic of Vietnam Gallantry Cross\, Unit Citation Badge with Palm\, National Defense Service Medal\, 6 Overseas Bars\, Presidential Unit Citation\, Meritorious Unit Commendation\, and an Honorable Discharge.\nIt will be an honor to stand a Silent Flag Line for this True American Hero. \nVisitation: 10:00 a.m. – 11:00 a.m. – Norris Funeral Home\, 402 East 2nd St.\, Bay Minette\, AL\nFuneral Service: 11:00 a.m. – Norris Funeral Home\, 402 East 2nd St.\, Bay Minette\, AL\nEscort: Upon completion of Funeral service.  LEO – YES.  Honor Guard – YES.\nInterment: Bryars – McGill Cemetery (8 miles north of I-65)\, Highway 47\, Rabun\, AL \nBaldwin County Staging #1\nLocation: Old Dollar General Store rear parking lot (Intersection Hwys 225 & 31)\nTime: 8:45 a.m.\nBriefing: N/A\nKSU: 9:00 a.m.\nRCIC: None at this time \nBaldwin County Staging #2\nLocation – Tom Thumb Store (Intersection Hwys 31 and 59)\nTime – 9:15 a.m.\nBriefing / Safety Briefing– 9:25 a.m.\nKSU – 9:40 a.m.\nRCIC – Ed “Juju” Lessard\, RC – (251) 978-6215\nFlags – Ed “Juju” Lessard\, RC – (251) 978-6215 \n[FONT=&amp]North Mobile County Riders please proceed to Norris Funeral Home. [/FONT]
URL:https://www.patriotguard.org/mission/sfc-wilbur-t-bryars-75-usa-ret-vietnam-bay-minette/
CATEGORIES:Archive
END:VEVENT
END:VCALENDAR