BEGIN:VCALENDAR
VERSION:2.0
PRODID:-//Patriot Guard Riders - ECPv5.6.0//NONSGML v1.0//EN
CALSCALE:GREGORIAN
METHOD:PUBLISH
X-WR-CALNAME:Patriot Guard Riders
X-ORIGINAL-URL:https://www.patriotguard.org
X-WR-CALDESC:Events for Patriot Guard Riders
BEGIN:VTIMEZONE
TZID:America/New_York
BEGIN:DAYLIGHT
TZOFFSETFROM:-0500
TZOFFSETTO:-0400
TZNAME:EDT
DTSTART:20160313T070000
END:DAYLIGHT
BEGIN:STANDARD
TZOFFSETFROM:-0400
TZOFFSETTO:-0500
TZNAME:EST
DTSTART:20161106T060000
END:STANDARD
END:VTIMEZONE
BEGIN:VEVENT
DTSTART;TZID=America/New_York:20160701T090000
DTEND;TZID=America/New_York:20160701T110000
DTSTAMP:20210512T154758
CREATED:20160701T130000Z
LAST-MODIFIED:20191201T144633Z
UID:410875-1467363600-1467370800@www.patriotguard.org
SUMMARY:SFC Nikki Colbert
DESCRIPTION:Patriot’s Name: SFC Nikki Colbert\nMilitary Branch:  United States Army\nClassification:  Active Duty Death \nLink To Obituary:\nhttp://www.hughesfunerals.com/sitemaker/sites/RWHugh1/memsol.cgi?page=profile&section=info&user_id=1820797 \nMission Ride Captain:\nDarl “Mach II” Easton\, darl444@msn.com\, (817) 296-5123 \nRide Captain #2:\nBill “Zippy-K” Kushnir\, bpkush@gte.net\, (214) 995-1536 \nMission Summary:\nThe Family Has Asked The PGR To Stand A Flag Line At Funeral Service Followed By A Procession To Dallas Fort Worth National Cemetery And To Stand A Flag Line There For Her Interment Service. \nPART 1:  Funeral Service and Procession\nMission Date:  Jul 01\, 2016 – Friday\nStaging Time:  10:00\nBriefing Time:  10:15\nIn Position Time Or KSU:  10:30\nService Start Time:  11:00 \nDetails Of Part 1:\nThe PGR will stage at the Funeral Home to brief\, set-up and\, approximately 30 minutes prior to the service\, we will stand the Flag Line as family and friends arrive of the Funeral Service. Shortly after the service begins\, we will secure the Flag Line. For those participating in the procession\, we will have a safety briefing and join the procession to the Dallas Fort Worth National Cemetery. \nName Of Staging Point:\nHughes Funeral Home\n400 E. Jefferson Blvd\nDallas\, Texas 75203 \nPART 2:Interment\nMission Date:Jul 01\, 2016 – Friday\nStaging Time:12:15\nBriefing Time:12:30\nIn Position Time Or KSU:12:45\nService Start Time:13:00 \nDetails Of Part 2:\nFor PGR not able to participate in Part 1\, please stage at the Dallas Fort Worth National Cemetery for a short briefing. When the Shelter becomes available\, please proceed to the shelter to setup and stand the flag line as the procession arrives\, and during the service. \nName Of Staging Point\nDallas Fort Worth National Cemetery\n2000 Mountain Creek Pkwy\nDallas\, Texas 75211
URL:https://www.patriotguard.org/mission/sfc-nikki-colbert/
CATEGORIES:Archive
END:VEVENT
END:VCALENDAR