BEGIN:VCALENDAR
VERSION:2.0
PRODID:-//Patriot Guard Riders - ECPv5.6.0//NONSGML v1.0//EN
CALSCALE:GREGORIAN
METHOD:PUBLISH
X-WR-CALNAME:Patriot Guard Riders
X-ORIGINAL-URL:https://www.patriotguard.org
X-WR-CALDESC:Events for Patriot Guard Riders
BEGIN:VTIMEZONE
TZID:America/New_York
BEGIN:DAYLIGHT
TZOFFSETFROM:-0500
TZOFFSETTO:-0400
TZNAME:EDT
DTSTART:20160313T070000
END:DAYLIGHT
BEGIN:STANDARD
TZOFFSETFROM:-0400
TZOFFSETTO:-0500
TZNAME:EST
DTSTART:20161106T060000
END:STANDARD
END:VTIMEZONE
BEGIN:VEVENT
DTSTART;TZID=America/New_York:20160825T090000
DTEND;TZID=America/New_York:20160825T110000
DTSTAMP:20210511T202140
CREATED:20160825T130000Z
LAST-MODIFIED:20191201T143403Z
UID:409723-1472115600-1472122800@www.patriotguard.org
SUMMARY:SFC Gary Lee Senkus\, USA(RET)\, Vietnam
DESCRIPTION:SFC Gary Lee Senkus\nUS Army Retired\nVietnam-Gulf Veteran\nGrand Junction\, CO\n\n\n\nWe have been invited to the Funeral of Sgt 1st Class Gary Lee Senkus\, Veteran US Army Vietnam/Gulf. \nInterment 1500(3pm) 25 Aug at:\nVeterans Memorial Cemetery\n2830 Riverside Parkway\nGrand Junction\, CO \nStage 14:15(2:15pm) at Shelter area \nRide Captain:\nTim Himes \nContact:\nArthur D Edwards\nharleyroadk@yahoo.com
URL:https://www.patriotguard.org/mission/sfc-gary-lee-senkus-usaret-vietnam/
CATEGORIES:Archive
END:VEVENT
END:VCALENDAR