BEGIN:VCALENDAR
VERSION:2.0
PRODID:-//Patriot Guard Riders - ECPv5.6.0//NONSGML v1.0//EN
CALSCALE:GREGORIAN
METHOD:PUBLISH
X-WR-CALNAME:Patriot Guard Riders
X-ORIGINAL-URL:https://www.patriotguard.org
X-WR-CALDESC:Events for Patriot Guard Riders
BEGIN:VTIMEZONE
TZID:America/New_York
BEGIN:DAYLIGHT
TZOFFSETFROM:-0500
TZOFFSETTO:-0400
TZNAME:EDT
DTSTART:20160313T070000
END:DAYLIGHT
BEGIN:STANDARD
TZOFFSETFROM:-0400
TZOFFSETTO:-0500
TZNAME:EST
DTSTART:20161106T060000
END:STANDARD
END:VTIMEZONE
BEGIN:VEVENT
DTSTART;TZID=America/New_York:20160729T090000
DTEND;TZID=America/New_York:20160729T110000
DTSTAMP:20210512T223837
CREATED:20160729T130000Z
LAST-MODIFIED:20191201T144034Z
UID:410324-1469782800-1469790000@www.patriotguard.org
SUMMARY:SFC Donald H. Sadler\, 86\, USA(RET)
DESCRIPTION:SFC Donald H. Sadler\, 86\n\n\nSandusky Ohio\n\n\nUnited States Army Korean War Veteran\n\n\n\n\n[ATTACH=CONFIG]4966[/ATTACH]\n\n\n\nVisitation / Services:\n[FONT=&amp]Ohio Veterans Home[/FONT]\nGiffin Chapel\n3416 Columbus Avenue\nSandusky\, Ohio 44870\nVisitation:  29 July 2016 @ 1200 hrs. – (12:00 PM)\nMilitary Service:  29 July 2016 @ 1300 hrs. – (1:00 PM)\nStaging: 29 July 2016 @ 1100 hrs. – (11:00 AM) \n[FONT=&amp]Interment:[/FONT][FONT=&amp] Calvary Cemetery[/FONT] Sandusky\, Ohio following the OVH Military Service \nArrangements by:\n[FONT=&amp]Toft Funeral Home & Crematory[/FONT]\n2001 Columbus Avenue\nSandusky\, OH 44870 \nDistrict# 2 Captain Gary Knight is assigned this mission of Honor and Respect. Please follow his instructions. Dress per the weather conditions. Use your own judgment on how you get safely to and from the mission. If you need to contact Gary email him at: gillkiki@neo.rr.com \n\n\n“Rest in Peace SFC Sadler”\n[ATTACH=CONFIG]4967[/ATTACH]\n\n\n\n[FONT=&amp][/FONT]
URL:https://www.patriotguard.org/mission/sfc-donald-h-sadler-86-usaret/
CATEGORIES:Archive
END:VEVENT
END:VCALENDAR