BEGIN:VCALENDAR
VERSION:2.0
PRODID:-//Patriot Guard Riders - ECPv5.6.0//NONSGML v1.0//EN
CALSCALE:GREGORIAN
METHOD:PUBLISH
X-WR-CALNAME:Patriot Guard Riders
X-ORIGINAL-URL:https://www.patriotguard.org
X-WR-CALDESC:Events for Patriot Guard Riders
BEGIN:VTIMEZONE
TZID:America/New_York
BEGIN:DAYLIGHT
TZOFFSETFROM:-0500
TZOFFSETTO:-0400
TZNAME:EDT
DTSTART:20160313T070000
END:DAYLIGHT
BEGIN:STANDARD
TZOFFSETFROM:-0400
TZOFFSETTO:-0500
TZNAME:EST
DTSTART:20161106T060000
END:STANDARD
END:VTIMEZONE
BEGIN:VEVENT
DTSTART;TZID=America/New_York:20160805T090000
DTEND;TZID=America/New_York:20160805T110000
DTSTAMP:20210512T051452
CREATED:20160805T130000Z
LAST-MODIFIED:20191201T143824Z
UID:410126-1470387600-1470394800@www.patriotguard.org
SUMMARY:SFC Charles A. Judge\, Jr.\, USA(AD)
DESCRIPTION:SFC Charles A. Judge\, Jr.\nUS Army(AD)\, OIF\nColumbia\, SC\n05 AUG 16\n\n\n​\nSergeant First Class Judge served as a Convoy Escort Platform Gunner in support of Operation Iraq Freedom during the Iraqi Governance Campaign where he completed multiple convoy missions.  Charles diligently served his community. \nAs a young man he was an Eagle Scout with Troop 26 of Inman South C​arolina. Later\, a five year coordinator and founder of Upstate Stand Down for Homeless and At-Risk Veterans. Charles made a lasting impression on everyone he met with his charm and sense of humor. Charles stood for an unknown to render aid and we will stand for him. \nMISSION DATE: Friday August 5\, 2016 \nSTAGING: 1130 (11:30 AM) \nBRIEFING: 1145 (11:45 AM) \nLOCATION:\nFort Jackson National Cemetery\n4170 Percival Rd.\nColumbia\, SC 29229 \nMAP LOCATION: https://goo.gl/maps/61BjSK54Uuz \nMISSION EXECUTION: Flag line only water will be provided. Changes to mission execution will come from the Ride Captain in Charge. \nMISSION WEATHER: High 87F. Winds light and variable. Chance of rain 60%. \nMarc Carroll\, RCIC\nmbcarroll40@gmail.com
URL:https://www.patriotguard.org/mission/sfc-charles-a-judge-jr-usaad/
CATEGORIES:Archive
END:VEVENT
END:VCALENDAR