BEGIN:VCALENDAR
VERSION:2.0
PRODID:-//Patriot Guard Riders - ECPv5.6.0//NONSGML v1.0//EN
CALSCALE:GREGORIAN
METHOD:PUBLISH
X-WR-CALNAME:Patriot Guard Riders
X-ORIGINAL-URL:https://www.patriotguard.org
X-WR-CALDESC:Events for Patriot Guard Riders
BEGIN:VTIMEZONE
TZID:America/New_York
BEGIN:DAYLIGHT
TZOFFSETFROM:-0500
TZOFFSETTO:-0400
TZNAME:EDT
DTSTART:20140309T070000
END:DAYLIGHT
BEGIN:STANDARD
TZOFFSETFROM:-0400
TZOFFSETTO:-0500
TZNAME:EST
DTSTART:20141102T060000
END:STANDARD
END:VTIMEZONE
BEGIN:VEVENT
DTSTART;TZID=America/New_York:20140826T090000
DTEND;TZID=America/New_York:20140826T110000
DTSTAMP:20210513T041407
CREATED:20140826T130000Z
LAST-MODIFIED:20191201T132035Z
UID:399867-1409043600-1409050800@www.patriotguard.org
SUMMARY:SFC Allen L. Finnell
DESCRIPTION:Allen L. Finnell\, SGT 1st Class\nUnited States Army26 August 2014\nLeavenworth\, Kansas\n\n\n\n[FONT=&amp]The family of Sgt.1st  Class Allen L. Finnell\, United States Army has requested the Patriot  Guard Riders escort their loved one to his final resting place and stand  a flag line at Leavenworth National Cemetery on 26 August 2014.  Allen  was an interpreter and was in the 165th MI Battalion. He  spoke Korean\, Laotian\, Thai\, Vietnamese and German. Sgt. Finnell spent  24 years in the Army before retiring. He will receive full military  honors at his service at Leavenworth National Cemetery. Mr. Finnell  opened Pullman Place Family Restaurant\, served as a Deputy with the  Leavenworth County Sheriff’s Department\, was a member of the American  Legion and American Legion Riders.[/FONT] \n[FONT=&amp]Staging:[/FONT]\n[FONT=&amp]1130 hrs. (11:30 am) – Stage at Leintz Funeral Home\, 4701 10th Avenue\, Leavenworth\, Kansas[/FONT]\n[FONT=&amp]1145 hrs. (11:45 am) – Briefing[/FONT]\n[FONT=&amp]1200 hrs. (12:00 pm) – Escort to Leavenworth National Cemetery[/FONT] \nRide Captain for this mission is TBD. \nThank you all for what you do.  \nBruce (Medic) Holmes\nPatriot Guard Riders\nbholmes5@kc.rr.com
URL:https://www.patriotguard.org/mission/sfc-allen-l-finnell/
CATEGORIES:Archive
END:VEVENT
END:VCALENDAR