BEGIN:VCALENDAR
VERSION:2.0
PRODID:-//Patriot Guard Riders - ECPv5.3.2.1//NONSGML v1.0//EN
CALSCALE:GREGORIAN
METHOD:PUBLISH
X-WR-CALNAME:Patriot Guard Riders
X-ORIGINAL-URL:https://www.patriotguard.org
X-WR-CALDESC:Events for Patriot Guard Riders
BEGIN:VTIMEZONE
TZID:America/New_York
BEGIN:DAYLIGHT
TZOFFSETFROM:-0500
TZOFFSETTO:-0400
TZNAME:EDT
DTSTART:20190310T070000
END:DAYLIGHT
BEGIN:STANDARD
TZOFFSETFROM:-0400
TZOFFSETTO:-0500
TZNAME:EST
DTSTART:20191103T060000
END:STANDARD
END:VTIMEZONE
BEGIN:VEVENT
DTSTART;VALUE=DATE:20190911
DTEND;VALUE=DATE:20190912
DTSTAMP:20210401T132311
CREATED:20190909T005251Z
LAST-MODIFIED:20190910T211010Z
UID:173073-1568160000-1568246399@www.patriotguard.org
SUMMARY:September 11th Remembrance Mission
DESCRIPTION:HOTH Mission\nSept 11th Remembrance Mission\nWhitehall\, Pennsylvania – 09-11-19\n\n\n\nABOUT THE MISSION: \nMission BBQ of Whitehall PA. has invited the Patriot Guard Riders to stand a flag line as they present the colors in recognition of remembrance of 9/11.\nFlag raising will be at 12:00 PM with a short message of remembrance.\n\n\nPRIMARY STAGING DETAILS: 09-11-19 \nStaging Time: 11:30 AM  \nMission BBQ\n1421 Grape St\nWhitehall\, Pennsylvania 18052\nMap\n\n\nRide Captain: \nGeorge(Bubba) Wirth\n610-248-9540\ngeorgepwirth@hotmail.com\n\n\nSpecial Instructions: \n\n\nFlags & Water:\nFlags will not be provided\nLarge Bike Flags will NOT be needed.\nWater WILL NOT be provided\, please bring your own.\n\n\n\nSubmitted By: Joyce Pawlowski \nPosition: Pennsylvania HOTH Coordinator \n\nNote: You do not have to own/ride a motorcycle or be a veteran to join\, and membership is Free. The only requirement is RESPECT! To subscribe to receive mission notices\, log into the National Site and click on the Members tab at the top. Select the Subscribe to PGR Missions option.\n Print This Page
URL:https://www.patriotguard.org/mission/sept-11th-remebrance-mission/
CATEGORIES:HOTH Mission
END:VEVENT
END:VCALENDAR