BEGIN:VCALENDAR
VERSION:2.0
PRODID:-//Patriot Guard Riders - ECPv5.6.0//NONSGML v1.0//EN
CALSCALE:GREGORIAN
METHOD:PUBLISH
X-WR-CALNAME:Patriot Guard Riders
X-ORIGINAL-URL:https://www.patriotguard.org
X-WR-CALDESC:Events for Patriot Guard Riders
BEGIN:VTIMEZONE
TZID:America/New_York
BEGIN:DAYLIGHT
TZOFFSETFROM:-0500
TZOFFSETTO:-0400
TZNAME:EDT
DTSTART:20160313T070000
END:DAYLIGHT
BEGIN:STANDARD
TZOFFSETFROM:-0400
TZOFFSETTO:-0500
TZNAME:EST
DTSTART:20161106T060000
END:STANDARD
END:VTIMEZONE
BEGIN:VEVENT
DTSTART;TZID=America/New_York:20160605T090000
DTEND;TZID=America/New_York:20160605T110000
DTSTAMP:20210513T140942
CREATED:20160605T130000Z
LAST-MODIFIED:20191201T153859Z
UID:415521-1465117200-1465124400@www.patriotguard.org
SUMMARY:Send Off
DESCRIPTION:5 June 2016 – Deployment Farewell Ceremony\, Lexington\, OK\n\n\n\nThe PGR has been invited to a OKANG farewell and escort.  There will be LEO. \nBig Flag bikes are needed!! \nDate:  Sunday\, 5 June 2016 \nStaging:  0800\nH&T Quick Stop\n16777 156th St.\nLexington\, OK \nMandatory Briefing:  0815\nYou Must attend the briefing to ride in the escort \nKSU:  0830 \nRiders should plan on this mission lasting until approx. 1115 \nWeather:  Sunny with a predicted low of 64\, high of 81. Hydrate before and during the mission. \nRCIC: Ray (rayneman) Gehrig        405-517-9538     rayneman@cox.net
URL:https://www.patriotguard.org/mission/send-off-182/
CATEGORIES:Archive
END:VEVENT
END:VCALENDAR