BEGIN:VCALENDAR
VERSION:2.0
PRODID:-//Patriot Guard Riders - ECPv5.6.0//NONSGML v1.0//EN
CALSCALE:GREGORIAN
METHOD:PUBLISH
X-WR-CALNAME:Patriot Guard Riders
X-ORIGINAL-URL:https://www.patriotguard.org
X-WR-CALDESC:Events for Patriot Guard Riders
BEGIN:VTIMEZONE
TZID:America/New_York
BEGIN:DAYLIGHT
TZOFFSETFROM:-0500
TZOFFSETTO:-0400
TZNAME:EDT
DTSTART:20160313T070000
END:DAYLIGHT
BEGIN:STANDARD
TZOFFSETFROM:-0400
TZOFFSETTO:-0500
TZNAME:EST
DTSTART:20161106T060000
END:STANDARD
END:VTIMEZONE
BEGIN:VEVENT
DTSTART;TZID=America/New_York:20160612T090000
DTEND;TZID=America/New_York:20160612T110000
DTSTAMP:20210513T083558
CREATED:20160612T130000Z
LAST-MODIFIED:20191201T153856Z
UID:415516-1465722000-1465729200@www.patriotguard.org
SUMMARY:Send Off
DESCRIPTION:More flights are leaving and taking our troops to their duty destinations.  We have the opportunity to show our deploying troops our respect and support on Sunday\, 12 June\, 2016\, at Charleston International Airport\, . \nMISSION DETAILS:\nThis will be a one (1) part mission.  We will stage at our usual location at the airport for briefing and then KSU to the airport entrance where we will form a flag line at the departure gate for the flight.  Upon departure of the troops\, we will break down the flag line and depart the airport. \nSTAGING: DATE/TIME: 12 June\, 2016\nAnnex Parking Lot\n5500 Porche Dr.\nNorth Charleston\, SC.\nTurn left on Porsche Dr.  Turn right at the stop sign.  Continue on your left. \nAssemble: 0545 (5:45 AM) \nBriefing: 0550 (5:50 AM) \nKSU: 0600 (0600 AM) \nEXECUTION: Upon completion of the briefing we will proceed to our usual parking area at the airport entrance.  We will proceed into the airport to the departure gate where we will form a flag line and render honors to our deploying troops.  Upon departure of the troops we will break down the flag line and depart the airport. \nWeather: The morning temperatures are expected to be in the mid 70’s with sunshine and a 0% to 7% chance of rain.  Please dress and prepare as appropriate for the expected conditions. \nPlease come out and join us in showing our never ending support for out military personnel. \nVince “Papa” Lombardo\, RCIC.\n(843) 452-8011\nretsoon.vl@gmail.com \nCharlie “Doorman” Ford\, RCIT.\n(843)530-0998\nrrcharlief@aol.com \nBen “Shadman” King\, Flag Wagon.\n(843) 834-2964\nshadman1948@yahoo.com
URL:https://www.patriotguard.org/mission/send-off-177/
END:VEVENT
END:VCALENDAR