BEGIN:VCALENDAR
VERSION:2.0
PRODID:-//Patriot Guard Riders - ECPv5.6.0//NONSGML v1.0//EN
CALSCALE:GREGORIAN
METHOD:PUBLISH
X-WR-CALNAME:Patriot Guard Riders
X-ORIGINAL-URL:https://www.patriotguard.org
X-WR-CALDESC:Events for Patriot Guard Riders
BEGIN:VTIMEZONE
TZID:America/New_York
BEGIN:DAYLIGHT
TZOFFSETFROM:-0500
TZOFFSETTO:-0400
TZNAME:EDT
DTSTART:20160313T070000
END:DAYLIGHT
BEGIN:STANDARD
TZOFFSETFROM:-0400
TZOFFSETTO:-0500
TZNAME:EST
DTSTART:20161106T060000
END:STANDARD
END:VTIMEZONE
BEGIN:VEVENT
DTSTART;TZID=America/New_York:20160709T090000
DTEND;TZID=America/New_York:20160709T110000
DTSTAMP:20210512T143810
CREATED:20160709T130000Z
LAST-MODIFIED:20191201T153855Z
UID:415515-1468054800-1468062000@www.patriotguard.org
SUMMARY:Send Off
DESCRIPTION:Local troops from Minnesota are deploying.  Further details will be disclosed at briefing. \nDeployment ceremony will be held at: \nArmory\n1346 South Robert St\nWest St Paul\, MN 55118 \n9:20 am   Staging\n9:50 am   Briefing\n10:00 am  Set Flag Line Event Center Entrance\n11:00 am  Program\n12:15 pm  Stand down & dismiss \nDismissal at RCIC discretion. \nThis is a rain or shine mission. Please bring your 3 x 5 flag and anything else you may need for the duration of this mission. \nRCIC – Mark Lea\, Viper\n612-747-3373
URL:https://www.patriotguard.org/mission/send-off-176/
CATEGORIES:Archive
END:VEVENT
END:VCALENDAR