BEGIN:VCALENDAR
VERSION:2.0
PRODID:-//Patriot Guard Riders - ECPv5.6.0//NONSGML v1.0//EN
CALSCALE:GREGORIAN
METHOD:PUBLISH
X-WR-CALNAME:Patriot Guard Riders
X-ORIGINAL-URL:https://www.patriotguard.org
X-WR-CALDESC:Events for Patriot Guard Riders
BEGIN:VTIMEZONE
TZID:America/New_York
BEGIN:DAYLIGHT
TZOFFSETFROM:-0500
TZOFFSETTO:-0400
TZNAME:EDT
DTSTART:20160313T070000
END:DAYLIGHT
BEGIN:STANDARD
TZOFFSETFROM:-0400
TZOFFSETTO:-0500
TZNAME:EST
DTSTART:20161106T060000
END:STANDARD
END:VTIMEZONE
BEGIN:VEVENT
DTSTART;TZID=America/New_York:20160622T090000
DTEND;TZID=America/New_York:20160622T110000
DTSTAMP:20210513T150727
CREATED:20160622T130000Z
LAST-MODIFIED:20191201T153854Z
UID:415514-1466586000-1466593200@www.patriotguard.org
SUMMARY:Send Off
DESCRIPTION:We are very privileged to be invited to Send Off a unit of local troops  that will be deploying and leaving their families for several months in support of our country and all it stands for. \nWe will be meeting the unit at their departure location and accompanying them to the airport where they will board their plane for departure.\n \nPlease bring your flags\, your smiles\, your handshakes and thank yous so they will feel how much we appreciate them and will know we will be there to welcome them home upon their return! \nNOTE: This mission posting is to facilitate your voluntary participation in honoring these Soldiers. For those interested\, and all are welcome\, we will be accompanying the Soldiers to their departure location. Please see the time table if you would like to participate. \nTime table for Wednesday\, 22 JUN 16:\n \n0630 – Stage at ARCO\, 1245 E 4th St.\, Ontario\, CA  https://goo.gl/maps/xfnXURCkZoK2\n \n0645 – Move to location of troops\n \n0700 – Mission briefing\n\n0715 – KSU to Bob Hope USO\,1940 Moore Way\, Ontario\, CA  https://goo.gl/maps/SNM5C9MF55D2\n \n0730 – Est arrival at USO\n \n0745 – Est Flag Line for Send Off\n\n\nR/C Dean ‘Deano’ Parker\nSo Cal PGR Ride Captain\ndean1951@verizon.net\n909-732-7235\n  \nYou do not have to be a Veteran or a motorcycle rider to attend this mission. Everyone is welcome. We encourage those who do not ride to attend in your car. If this will be your first mission go to the initial staging area and you will be briefed there by the R/C (Ride Captain).  Dress for motorcycle riding or dress casually if you are driving a cage (car).  Please feel free to attend any portion of this mission you can.  Please ride/drive safely.
URL:https://www.patriotguard.org/mission/send-off-175/
CATEGORIES:Archive
END:VEVENT
END:VCALENDAR