BEGIN:VCALENDAR
VERSION:2.0
PRODID:-//Patriot Guard Riders - ECPv5.6.0//NONSGML v1.0//EN
CALSCALE:GREGORIAN
METHOD:PUBLISH
X-WR-CALNAME:Patriot Guard Riders
X-ORIGINAL-URL:https://www.patriotguard.org
X-WR-CALDESC:Events for Patriot Guard Riders
BEGIN:VTIMEZONE
TZID:America/New_York
BEGIN:DAYLIGHT
TZOFFSETFROM:-0500
TZOFFSETTO:-0400
TZNAME:EDT
DTSTART:20160313T070000
END:DAYLIGHT
BEGIN:STANDARD
TZOFFSETFROM:-0400
TZOFFSETTO:-0500
TZNAME:EST
DTSTART:20161106T060000
END:STANDARD
END:VTIMEZONE
BEGIN:VEVENT
DTSTART;TZID=America/New_York:20160708T090000
DTEND;TZID=America/New_York:20160708T110000
DTSTAMP:20210513T000837
CREATED:20160708T130000Z
LAST-MODIFIED:20191201T153852Z
UID:415510-1467968400-1467975600@www.patriotguard.org
SUMMARY:Send Off
DESCRIPTION:8 July 2016\n\nThe PGR is invited to attend a Deployment Ceremony being held at the Winona Veteran’s Memorial Park.  Because this is Military related and any further information will come out at the Briefing or when you arrive for the Mission. Alternate location for weather will be the Winona Training and Community Center. Watch the calendar and future emails in the event of bad weather. \nStaging Opens:    1230 pm  Kwik Trip Marion Rd. SE Rochester\nBriefing          :    1240 pm\nLeave for Winona: 1245 pm\nStaging in Winona: 0145 pm  Park on road directly south of the Amphitheater\, south side of road.\nSet Flag Line :     0200 pm \nDismissal per RCIC \nRCIC : Jim Nelson\nrochesterrc@mnpatriotguard.org \nThis is a rain or shine Mission. Bring your 3 ft X 5 ft Flag. Be prepared to be self sufficient.
URL:https://www.patriotguard.org/mission/send-off-171/
CATEGORIES:Archive
END:VEVENT
END:VCALENDAR