BEGIN:VCALENDAR
VERSION:2.0
PRODID:-//Patriot Guard Riders - ECPv5.3.2.1//NONSGML v1.0//EN
CALSCALE:GREGORIAN
METHOD:PUBLISH
X-WR-CALNAME:Patriot Guard Riders
X-ORIGINAL-URL:https://www.patriotguard.org
X-WR-CALDESC:Events for Patriot Guard Riders
BEGIN:VTIMEZONE
TZID:America/New_York
BEGIN:DAYLIGHT
TZOFFSETFROM:-0500
TZOFFSETTO:-0400
TZNAME:EDT
DTSTART:20190310T070000
END:DAYLIGHT
BEGIN:STANDARD
TZOFFSETFROM:-0400
TZOFFSETTO:-0500
TZNAME:EST
DTSTART:20191103T060000
END:STANDARD
END:VTIMEZONE
BEGIN:VEVENT
DTSTART;VALUE=DATE:20190922
DTEND;VALUE=DATE:20190923
DTSTAMP:20210401T121600
CREATED:20190920T163338Z
LAST-MODIFIED:20190920T163338Z
UID:174882-1569110400-1569196799@www.patriotguard.org
SUMMARY:Screaming Eagles Honor Flight
DESCRIPTION:HOTH Mission\nScreaming Eagles Honor Flight\nClarksville\, Tennessee – 09-22-19\n\n\nABOUT THE MISSION: \n\nPatriot Guard Riders will be supporting the veterans participating in an Honor Flight. PGR will be present in Clarksville as they start their long day\, escorting the bus to Nashville airport where they will be met by a flag line. Upon return in the evening they will be greeted by a flag line and an escort back to Clarksville.\n\n\nPRIMARY STAGING DETAILS: 09-22-19 \nStaging Time: 3:45 am  \nSam’s Club parking lot\n3315 Guthrie Hwy\nClarksville\, Tennessee 37040\n\n\nRide Captain: \nDeanna “Red Light” McLaughlin\n(931) 801-1354\ndmclau9499@bellsouth.net\n\n\nSpecial Instructions: \nKSU at 4:30 to escort bus to BNA. Upon arrival PGR will stand a flag line until the veterans enter the security checkpoint.\n\n\nFlags & Water:\nFlags will be provided\nIf you have large bike flags\, please bring them.\nWater WILL NOT be provided\, please bring your own.\n\nSTAGING #2 DETAILS: 09-22-19 \nStaging Time: 4:30 am  \nWaffle House\n556 Donelson Pike\nNashville\, Tennessee 37214\n\n\nRide Captain: \nRon “Doc” Neely\n(615) 804-6850\neng.9-11@comcast.net\n\n\nSpecial Instructions: \nKSU at 5:00 am to move to airport departure area.\n\n\nFlags & Water:\nFlags will be provided\nLarge Bike Flags will NOT be needed.\nWater WILL NOT be provided\, please bring your own.\n\nSTAGING #3 DETAILS: 09-22-19 \nStaging Time: 21:30  \nWaffle House\n556 Donelson Pike\nNashville\, Tennessee 37214\n\n\nRide Captain: \nRon Neely\n(615) 804-6850\n\n\nSpecial Instructions: \nKSU at 10 PM to move to airport departure area.\n\n\nFlags & Water:\nFlags will be provided\nLarge Bike Flags will NOT be needed.\nWater WILL NOT be provided\, please bring your own.\n\nSTAGING #4 DETAILS: 09-22-19 \nStaging Time: 9:30 pm  \nSam’s Club\n3315 Guthrie Hwy\nClarksville\, Tennessee 37040\n\n\nRide Captain: \nDarrell Vance\n(931) 802-4558\nmr.darrell.vance@outlook.com\n\n\nSpecial Instructions: \nKSU at 9:30 PM to ride to Nashville airport to greet returning veterans and escort the bus back to Clarksville.\n\n\nFlags & Water:\nFlags will be provided\nIf you have large bike flags\, please bring them.\nWater WILL NOT be provided\, please bring your own.\n\nSubmitted By: David Westhorp \nPosition: Tennessee State Captain \n\nNote: You do not have to own/ride a motorcycle or be a veteran to join\, and membership is Free. The only requirement is RESPECT! To subscribe to receive mission notices\, log into the National Site and click on the Members tab at the top. Select the Subscribe to PGR Missions option.\n Print This Page
URL:https://www.patriotguard.org/mission/screaming-eagles-honor-flight-3/
CATEGORIES:HOTH Mission
END:VEVENT
END:VCALENDAR