BEGIN:VCALENDAR
VERSION:2.0
PRODID:-//Patriot Guard Riders - ECPv5.3.2.1//NONSGML v1.0//EN
CALSCALE:GREGORIAN
METHOD:PUBLISH
X-WR-CALNAME:Patriot Guard Riders
X-ORIGINAL-URL:https://www.patriotguard.org
X-WR-CALDESC:Events for Patriot Guard Riders
BEGIN:VTIMEZONE
TZID:America/New_York
BEGIN:DAYLIGHT
TZOFFSETFROM:-0500
TZOFFSETTO:-0400
TZNAME:EDT
DTSTART:20160313T070000
END:DAYLIGHT
BEGIN:STANDARD
TZOFFSETFROM:-0400
TZOFFSETTO:-0500
TZNAME:EST
DTSTART:20161106T060000
END:STANDARD
END:VTIMEZONE
BEGIN:VEVENT
DTSTART;TZID=America/New_York:20160605T090000
DTEND;TZID=America/New_York:20160605T110000
DTSTAMP:20210403T082931
CREATED:20160605T130000Z
LAST-MODIFIED:20191201T145408Z
UID:411562-1465117200-1465124400@www.patriotguard.org
SUMMARY:Scott P. Hanley
DESCRIPTION:Patriot Guard and Associates\,\n\nSadly\, we are called to stand a Flag Line for Scott P. Hanley\, US Navy who passed away unexpectedly. Due to the short notice\, we have no further information about his military service. \nWe will stand a Flag Line during calling hours from 1500 hrs (3:00 pm) until 1730 hrs (5:30 pm) and during Military Honors following. Interment will be at the convenience of the family. \nAssistant State Captain Jack Casey will be RCIC and will have Flags and water on site. A number of members will be at Super Sunday at the start of the Mission\, so anyone available should meet at the stage point. \nSTAGE:                    1400 hrs (2:00 pm)\, Sunday\, 5 June 2016\n                                  Biega Funeral Home\n                                  3 Silver Street\n                                  Middletown\, CT 06457\n\n—\nMac McArthur\nConnecticut State Captain\nstatecaptain@ctpatriotguard.org\nhaddamac@gmail.com\nmac06438@aol.com\nCell:860-682-7625
URL:https://www.patriotguard.org/mission/scott-p-hanley/
CATEGORIES:Archive
END:VEVENT
END:VCALENDAR