BEGIN:VCALENDAR
VERSION:2.0
PRODID:-//Patriot Guard Riders - ECPv5.3.2.1//NONSGML v1.0//EN
CALSCALE:GREGORIAN
METHOD:PUBLISH
X-WR-CALNAME:Patriot Guard Riders
X-ORIGINAL-URL:https://www.patriotguard.org
X-WR-CALDESC:Events for Patriot Guard Riders
BEGIN:VTIMEZONE
TZID:America/New_York
BEGIN:DAYLIGHT
TZOFFSETFROM:-0500
TZOFFSETTO:-0400
TZNAME:EDT
DTSTART:20190310T070000
END:DAYLIGHT
BEGIN:STANDARD
TZOFFSETFROM:-0400
TZOFFSETTO:-0500
TZNAME:EST
DTSTART:20191103T060000
END:STANDARD
END:VTIMEZONE
BEGIN:VEVENT
DTSTART;VALUE=DATE:20190615
DTEND;VALUE=DATE:20190616
DTSTAMP:20210405T071043
CREATED:20190613T190046Z
LAST-MODIFIED:20190613T191122Z
UID:164710-1560556800-1560643199@www.patriotguard.org
SUMMARY:Scott Dearing
DESCRIPTION:Honor Mission\nScott Dearing\, Retired\nUSMC – WoT\nNewport\, North Carolina – 06-15-19\n\n\n\nABOUT THE MISSION: \nScott Dearing\, 47\, of Havelock\, passed away Tuesday\, June 11­\, 2019\, at his home.His memorial service will be held at 1:30 p.m. on Saturday\, June 15\, 2019\, at Grace Baptist Church\, officiated by Pastor Clyde Eborne.\nScott honorably retired from the United States Marine Corps\, after 22 years\, as Gunnery Sergeant was and Iraq war veteran and has earn numerous medals\, after retirement he worked for FRC East at MCAS Cherry Point. As an active member of the community\, many knew Scott through his business\, Rising Phoenix Martial Arts in Havelock. His martial art achievements included Rank of Master in Tang Soo Do. He also coached Lacrosse for the Havelock Hornets. Scott loved the Lord and was an active member of Grace Baptist Church. He was a beloved husband and father\n\n\nPRIMARY STAGING DETAILS: 06-15-19 \nStaging Time: 12:00 pm  \nGrace Baptist Church\nNewport\, North Carolina 28570\nhttps://goo.gl/maps/sMoKFZBTS1SXToiV7\n\n\nRide Captain: \nCharles (Crazymike) Peters\n252-665-5007\ncmda0140@gmail.com\n\n\nSpecial Instructions: \n12:00 pm Briefing\n12:15 pm setup up Flags\n12:30 pm standby for Family and Friends.\n1:30 pm When service begins we will Stand down Flag Line and breakdown flags and depart the area quietly\n\n\nFlags & Water:\nFlags will be provided\nLarge Bike Flags will NOT be needed.\nWater will be provided.\n\n\nSubmitted By: charles peters \nPosition: North Carolina Ride Captain\n\n\nNote: You do not have to own/ride a motorcycle or be a veteran to join\, and membership is Free. The only requirement is RESPECT! To subscribe to receive mission notices\, log into the National Site and click on the Members tab at the top. Select the Subscribe to PGR Missions option.\n Print This Page
URL:https://www.patriotguard.org/mission/scott-dearing/
CATEGORIES:Honor Mission
END:VEVENT
END:VCALENDAR