BEGIN:VCALENDAR
VERSION:2.0
PRODID:-//Patriot Guard Riders - ECPv5.3.2.1//NONSGML v1.0//EN
CALSCALE:GREGORIAN
METHOD:PUBLISH
X-WR-CALNAME:Patriot Guard Riders
X-ORIGINAL-URL:https://www.patriotguard.org
X-WR-CALDESC:Events for Patriot Guard Riders
BEGIN:VTIMEZONE
TZID:America/New_York
BEGIN:DAYLIGHT
TZOFFSETFROM:-0500
TZOFFSETTO:-0400
TZNAME:EDT
DTSTART:20190310T070000
END:DAYLIGHT
BEGIN:STANDARD
TZOFFSETFROM:-0400
TZOFFSETTO:-0500
TZNAME:EST
DTSTART:20191103T060000
END:STANDARD
END:VTIMEZONE
BEGIN:VEVENT
DTSTART;VALUE=DATE:20190527
DTEND;VALUE=DATE:20190528
DTSTAMP:20210405T030846
CREATED:20190514T202331Z
LAST-MODIFIED:20190514T202331Z
UID:161105-1558915200-1559001599@www.patriotguard.org
SUMMARY:Sappington/Concord Memorial Day Ceremony
DESCRIPTION:HOTH Mission\nSappington/Concord Memorial Day Ceremony\n\nSt. Louis\, Missouri – 05-27-19\n\n\n\n\nABOUT THE MISSION: \nFor the 8th year\, the Patriot Guard Riders have been invited to stand a flag line for the Sappington/Concord Memorial Day Ceremony.  This is a wonderful event supported by the local community.  We have always had a great turnout for this event so I hope you can join us.\n\n\nPRIMARY STAGING DETAILS: 05-27-19 \nStaging Time: 09:00 am \nSt. Lucas United Church of Christ\n11735 Denny Rd (Use the west entrance)\nSt. Louis\, Missouri 63126\n\n\nRide Captain: \nJim “(1)” Gun-Shy” Kleszczewski and\nDenny “Dutchman” Eads\n314-956-6899\n\n\nSpecial Instructions: \n9:00 AM – Stage/Ride meeting\n9:15 AM – Flag line\n10:00 AM – Ceremony\n\nFlags & Water:\nFlags will be provided\nLarge Bike Flags will NOT be needed.\nWater will be provided.\n\n\n\n\nSubmitted By: Jim Kleszczewski \nPosition: Missouri Ride Captain \n\nNote: You do not have to own/ride a motorcycle or be a veteran to join\, and membership is Free. The only requirement is RESPECT! To subscribe to receive mission notices\, log into the National Site and click on the Members tab at the top. Select the Subscribe to PGR Missions option.\n Print This Page
URL:https://www.patriotguard.org/mission/sappington-concord-memorial-day-ceremony-2/
CATEGORIES:HOTH Mission
END:VEVENT
END:VCALENDAR