BEGIN:VCALENDAR
VERSION:2.0
PRODID:-//Patriot Guard Riders - ECPv5.3.2.1//NONSGML v1.0//EN
CALSCALE:GREGORIAN
METHOD:PUBLISH
X-WR-CALNAME:Patriot Guard Riders
X-ORIGINAL-URL:https://www.patriotguard.org
X-WR-CALDESC:Events for Patriot Guard Riders
BEGIN:VTIMEZONE
TZID:America/New_York
BEGIN:DAYLIGHT
TZOFFSETFROM:-0500
TZOFFSETTO:-0400
TZNAME:EDT
DTSTART:20190310T070000
END:DAYLIGHT
BEGIN:STANDARD
TZOFFSETFROM:-0400
TZOFFSETTO:-0500
TZNAME:EST
DTSTART:20191103T060000
END:STANDARD
END:VTIMEZONE
BEGIN:VEVENT
DTSTART;VALUE=DATE:20190718
DTEND;VALUE=DATE:20190719
DTSTAMP:20210403T191627
CREATED:20190711T182857Z
LAST-MODIFIED:20190711T182857Z
UID:167386-1563408000-1563494399@www.patriotguard.org
SUMMARY:Santiago Martinez Esparza
DESCRIPTION:Honor Mission\nSantiago Martinez Esparza\, Veteran\nUSA –\nPhoenix\, Arizona – 07-18-19\n\n\n\n\nABOUT THE MISSION: \nSantiago Martinez Esparza was a United States Army veteran. He proudly served his country in the US Army from 1953 to 1955. After 6 months basic military training and training as a Heavy Weapons Infantryman\, Private Second Class Esparza was assigned to Heavy Mortar Company 22nd Infantry Regiment. He served his remaining enlistment overseas in Germany one year and 3 months. Private Second Class Esparza was released from active duty at Fort Bliss Texas and honorably discharged in April 1955. While in the service of his country Private Second Class Esparza earned the National Defense Service Medal and Army Occupation Medal (Germany).\n\n\nPRIMARY STAGING DETAILS: 07-18-19 \nStaging Time: 10:30 am \nSt. Catherine’s of Siena Catholic Church\n6200 South Central Ave.\nPhoenix\, Arizona 85042\n\n\nRide Captain: \nTim Gentry 402-210-7857   tgentry100@gmail.com\n\n\nSpecial Instructions: \nCircle of Honor: 11:00 AM\nKSU to Holy Cross Cemetery: 11:15 AM\nMilitary Honors: 12:00 PM\nAn outside company is providing the escort service.\n\nFlags & Water:\nFlags will not be provided\nIf you have large bike flags\, please bring them.\nWater WILL NOT be provided\, please bring your own.\n\nSTAGING #2 DETAILS: 07-18-19 \nStaging Time: 11:40 am \nHoly Cross Cemetery\n9925 W Thomas Rd\nAvondale\, Arizona 85392\n\n\nRide Captain: \nTim Gentry 402-210-7857   tgentry100@gmail.com\n\nFlag Captain: Karen Swanson\n\n\nSpecial Instructions: \nMeet Flag Captain at Holy Cross Cemetery.\nFlag Line Set: 11:50 AM\nMilitary Honors: 12:00 PM\n\nFlags & Water:\nFlags will be provided\nLarge Bike Flags will NOT be needed.\nWater will be provided.\n\nSubmitted By: David Murphy \nPosition: Arizona Assistant State Captain \n\nNote: You do not have to own/ride a motorcycle or be a veteran to join\, and membership is Free. The only requirement is RESPECT! To subscribe to receive mission notices\, log into the National Site and click on the Members tab at the top. Select the Subscribe to PGR Missions option.\n Print This Page
URL:https://www.patriotguard.org/mission/santiago-martinez-esparza/
CATEGORIES:Honor Mission
END:VEVENT
END:VCALENDAR