BEGIN:VCALENDAR
VERSION:2.0
PRODID:-//Patriot Guard Riders - ECPv5.6.0//NONSGML v1.0//EN
CALSCALE:GREGORIAN
METHOD:PUBLISH
X-WR-CALNAME:Patriot Guard Riders
X-ORIGINAL-URL:https://www.patriotguard.org
X-WR-CALDESC:Events for Patriot Guard Riders
BEGIN:VTIMEZONE
TZID:America/New_York
BEGIN:DAYLIGHT
TZOFFSETFROM:-0500
TZOFFSETTO:-0400
TZNAME:EDT
DTSTART:20160313T070000
END:DAYLIGHT
BEGIN:STANDARD
TZOFFSETFROM:-0400
TZOFFSETTO:-0500
TZNAME:EST
DTSTART:20161106T060000
END:STANDARD
END:VTIMEZONE
BEGIN:VEVENT
DTSTART;TZID=America/New_York:20160627T090000
DTEND;TZID=America/New_York:20160627T110000
DTSTAMP:20210512T154706
CREATED:20160627T130000Z
LAST-MODIFIED:20191201T144810Z
UID:411024-1467018000-1467025200@www.patriotguard.org
SUMMARY:Sandra Kyle\, 54
DESCRIPTION:HN Sandra Kyle\, 54\nU.S. Navy Veteran\nAtkins\, Arkansas\n27 June 2016\n\n\n\nThe family\, and friends of Sandra Kyle\, 54\, have requested the Patriot Guard Riders attend her funeral services to show Honor\, and Respect for service rendered to our country. HN Kyle proudly served in the U.S. Navy for 4 years\, and 7 months as an Operating Room Tech. She was employed by the Department of Veterans Affairs. \nSurvived by 2 sons\, I brother\, 4 sisters\, mother\, step-father\, other relatives\, and many friends who mourn her loss. \nFuneral services are 10:00 am\, Monday\, 27 June 2016\, in the Lemley Funeral Home Chapel in Atkins Arkansas with interment at the Catholic Cemetery in Atkins. \nObituary: http://www.lemleyfuneral.com/book-of-memories/2540593/Kyle-Sandra/obituary.php \nSTAGING:   0900 HRS\, Monday\, 27 June 2016 \nLemley Funeral Home\n1401 N. Church St.\nAtkins Arkansas \nBRIEFING:   0915 HRS \nFLAG LINE:   0930 HRS \nESCORT:   To Catholic Cemetery\, Atkins Arkansas\, 1.5 miles. Big Flag Bikes needed \nINTERMENT:   With Military Honors by Russellville VFW Post # 2283 and a Flag Line by the PGR \nWeather:   Hot & Humid\, 93 degrees. \nPlease Hydrate prior to the mission to avoid heat stress! \nRCIC:\nJerry “DeadEye” Ashby\ntripower@suddenlink.net\n501-940-7124
URL:https://www.patriotguard.org/mission/sandra-kyle-54/
CATEGORIES:Archive
END:VEVENT
END:VCALENDAR